BEGIN:VCALENDAR
VERSION:2.0
PRODID:-//AusschreibungsRadar//Timeline//DE
CALSCALE:GREGORIAN
METHOD:PUBLISH
X-WR-CALNAME:Projekt Bereitstellung von Druck-, Scan- und Multifunktionsgeräten i
X-WR-TIMEZONE:Europe/Berlin
BEGIN:VEVENT
UID:a4d3d9f025e1f5b9@ausschreibungsradar.com
DTSTAMP:20260424T002656Z
DTSTART;VALUE=DATE:20260520
DTEND;VALUE=DATE:20260520
SUMMARY:Angebotsfrist — Bereitstellung von Druck-\, Scan- und Multifunktionsgeräten i
DESCRIPTION:Phase: Ausschreibung | Beschreibung: Angebote werden eingeholt | Link: https://ausschreibungsradar.com/ausschreibung/b607163f-bdae-43af-abcb-4868b7ff904f/
URL:https://ausschreibungsradar.com/ausschreibung/b607163f-bdae-43af-abcb-4868b7ff904f/
END:VEVENT
BEGIN:VEVENT
UID:d9d99f72f2b91cdf@ausschreibungsradar.com
DTSTAMP:20260424T002656Z
DTSTART;VALUE=DATE:20260226
DTEND;VALUE=DATE:20260226
SUMMARY:Ausschreibung — Bereitstellung von Druck-\, Scan- und Multifunktionsgeräten i
DESCRIPTION:Phase: Ausschreibung | Beschreibung: Offizielle Ausschreibung mit Bieterfrist. | Link: https://ausschreibungsradar.com/ausschreibung/954e5a11-94e7-42ac-8d99-5f2b84261813/
URL:https://ausschreibungsradar.com/ausschreibung/954e5a11-94e7-42ac-8d99-5f2b84261813/
END:VEVENT
BEGIN:VEVENT
UID:9081c00eee5a9fad@ausschreibungsradar.com
DTSTAMP:20260424T002656Z
DTSTART;VALUE=DATE:20260226
DTEND;VALUE=DATE:20260226
SUMMARY:Ausschreibung — Bereitstellung von Druck-\, Scan- und Multifunktionsgeräten i
DESCRIPTION:Phase: Ausschreibung | Beschreibung: Offizielle Ausschreibung mit Bieterfrist. | Link: https://ausschreibungsradar.com/ausschreibung/b33747fd-bf2d-4afd-999a-8a3f8b5111e5/
URL:https://ausschreibungsradar.com/ausschreibung/b33747fd-bf2d-4afd-999a-8a3f8b5111e5/
END:VEVENT
END:VCALENDAR
