BEGIN:VCALENDAR
VERSION:2.0
PRODID:-//AusschreibungsRadar//Timeline//DE
CALSCALE:GREGORIAN
METHOD:PUBLISH
X-WR-CALNAME:Projekt Metallbau / Innentüren, Außentüren, Sektionaltore DIN 18299
X-WR-TIMEZONE:Europe/Berlin
BEGIN:VEVENT
UID:de7f5b075325e725@ausschreibungsradar.com
DTSTAMP:20260424T092956Z
DTSTART;VALUE=DATE:20240108
DTEND;VALUE=DATE:20240108
SUMMARY:Angebotsfrist — Metallbau / Innentüren\, Außentüren\, Sektionaltore DIN 18299
DESCRIPTION:Phase: Ausschreibung | Beschreibung: Angebote werden eingeholt | Link: https://ausschreibungsradar.com/ausschreibung/dbc4e75f-c018-4967-84a0-a4f9e99dce61/
URL:https://ausschreibungsradar.com/ausschreibung/dbc4e75f-c018-4967-84a0-a4f9e99dce61/
END:VEVENT
BEGIN:VEVENT
UID:5373969315559252@ausschreibungsradar.com
DTSTAMP:20260424T092956Z
DTSTART;VALUE=DATE:20240207
DTEND;VALUE=DATE:20240207
SUMMARY:Vergabeergebnis — Metallbau / Innentüren\, Außentüren\, Sektionaltore DIN 18299
DESCRIPTION:Phase: Vergabeergebnis | Beschreibung: Keine Angebote eingegangen | Link: https://ausschreibungsradar.com/ausschreibung/b62371a6-8895-4352-a6d0-d4c686ff8c08/
URL:https://ausschreibungsradar.com/ausschreibung/b62371a6-8895-4352-a6d0-d4c686ff8c08/
END:VEVENT
END:VCALENDAR
