BEGIN:VCALENDAR
VERSION:2.0
PRODID:-//AusschreibungsRadar//Timeline//DE
CALSCALE:GREGORIAN
METHOD:PUBLISH
X-WR-CALNAME:Projekt Umbau und Erweiterung der Nationalparkschule Grundschule "Os
X-WR-TIMEZONE:Europe/Berlin
BEGIN:VEVENT
UID:78786a2fb8fc5273@ausschreibungsradar.com
DTSTAMP:20260425T144603Z
DTSTART;VALUE=DATE:20250808
DTEND;VALUE=DATE:20250808
SUMMARY:Ausschreibung — Umbau und Erweiterung der Nationalparkschule Grundschule "Os
DESCRIPTION:Phase: Ausschreibung | Beschreibung: Offizielle Ausschreibung mit Bieterfrist. | Link: https://ausschreibungsradar.com/ausschreibung/e1c94aa5-a38b-416a-856e-b98b52dd943e/
URL:https://ausschreibungsradar.com/ausschreibung/e1c94aa5-a38b-416a-856e-b98b52dd943e/
END:VEVENT
BEGIN:VEVENT
UID:d699bcf7644f2801@ausschreibungsradar.com
DTSTAMP:20260425T144603Z
DTSTART;VALUE=DATE:20250929
DTEND;VALUE=DATE:20250929
SUMMARY:Angebotsfrist — Umbau und Erweiterung der Nationalparkschule Grundschule "Os
DESCRIPTION:Phase: Ausschreibung | Beschreibung: Angebote werden eingeholt | Link: https://ausschreibungsradar.com/ausschreibung/b63d239c-19a8-4138-a175-a382bfb4663b/
URL:https://ausschreibungsradar.com/ausschreibung/b63d239c-19a8-4138-a175-a382bfb4663b/
END:VEVENT
END:VCALENDAR
