BEGIN:VCALENDAR
VERSION:2.0
PRODID:-//AusschreibungsRadar//Timeline//DE
CALSCALE:GREGORIAN
METHOD:PUBLISH
X-WR-CALNAME:Projekt Aufzug - Kirberger Hof
X-WR-TIMEZONE:Europe/Berlin
BEGIN:VEVENT
UID:ce78f17b415b4c33@ausschreibungsradar.com
DTSTAMP:20260425T155228Z
DTSTART;VALUE=DATE:20251017
DTEND;VALUE=DATE:20251017
SUMMARY:Angebotsfrist — Aufzug - Kirberger Hof
DESCRIPTION:Phase: Ausschreibung | Beschreibung: Angebote werden eingeholt | Link: https://ausschreibungsradar.com/ausschreibung/b643a8d0-37b6-4f6a-84dd-45ebaa996b67/
URL:https://ausschreibungsradar.com/ausschreibung/b643a8d0-37b6-4f6a-84dd-45ebaa996b67/
END:VEVENT
BEGIN:VEVENT
UID:5d81bdc3305e17fb@ausschreibungsradar.com
DTSTAMP:20260425T155228Z
DTSTART;VALUE=DATE:20251121
DTEND;VALUE=DATE:20251121
SUMMARY:Vergabeergebnis — Aufzug - Kirberger Hof
DESCRIPTION:Phase: Vergabeergebnis | Beschreibung: Auftrag wurde zugeschlagen | Link: https://ausschreibungsradar.com/ausschreibung/f9fe8858-a3d4-4d93-92f9-a3b63996a3f6/
URL:https://ausschreibungsradar.com/ausschreibung/f9fe8858-a3d4-4d93-92f9-a3b63996a3f6/
END:VEVENT
END:VCALENDAR
