BEGIN:VCALENDAR
VERSION:2.0
PRODID:-//AusschreibungsRadar//Timeline//DE
CALSCALE:GREGORIAN
METHOD:PUBLISH
X-WR-CALNAME:Projekt Los 300-041 Trockenbauarbeiten Bremerhaven Mitte
X-WR-TIMEZONE:Europe/Berlin
BEGIN:VEVENT
UID:ea6d3d7af12c8c9a@ausschreibungsradar.com
DTSTAMP:20260424T210934Z
DTSTART;VALUE=DATE:20230913
DTEND;VALUE=DATE:20230913
SUMMARY:Angebotsfrist — Los 300-041 Trockenbauarbeiten Bremerhaven Mitte
DESCRIPTION:Phase: Ausschreibung | Beschreibung: Angebote werden eingeholt | Link: https://ausschreibungsradar.com/ausschreibung/b672334e-d61d-42de-b993-3a29681668fd/
URL:https://ausschreibungsradar.com/ausschreibung/b672334e-d61d-42de-b993-3a29681668fd/
END:VEVENT
END:VCALENDAR
