BEGIN:VCALENDAR
VERSION:2.0
PRODID:-//AusschreibungsRadar//Timeline//DE
CALSCALE:GREGORIAN
METHOD:PUBLISH
X-WR-CALNAME:Projekt Sicherheitsdienst kommunale Notunterkunft Am Ühlchen
X-WR-TIMEZONE:Europe/Berlin
BEGIN:VEVENT
UID:23fd13e4b6a97b64@ausschreibungsradar.com
DTSTAMP:20260424T091301Z
DTSTART;VALUE=DATE:20250305
DTEND;VALUE=DATE:20250305
SUMMARY:Angebotsfrist — Sicherheitsdienst kommunale Notunterkunft Am Ühlchen
DESCRIPTION:Phase: Ausschreibung | Beschreibung: Angebote werden eingeholt | Link: https://ausschreibungsradar.com/ausschreibung/ea70f6b2-6368-436b-b5ab-3cac011f957d/
URL:https://ausschreibungsradar.com/ausschreibung/ea70f6b2-6368-436b-b5ab-3cac011f957d/
END:VEVENT
BEGIN:VEVENT
UID:0fca75146b1cbcf0@ausschreibungsradar.com
DTSTAMP:20260424T091301Z
DTSTART;VALUE=DATE:20241204
DTEND;VALUE=DATE:20241204
SUMMARY:Ausschreibung — Sicherheitsdienst kommunale Notunterkunft Am Ühlchen
DESCRIPTION:Phase: Ausschreibung | Beschreibung: Offizielle Ausschreibung mit Bieterfrist. | Link: https://ausschreibungsradar.com/ausschreibung/87d2402a-2336-4236-a794-14df92b868bd/
URL:https://ausschreibungsradar.com/ausschreibung/87d2402a-2336-4236-a794-14df92b868bd/
END:VEVENT
BEGIN:VEVENT
UID:1fb7b94c3d7d0308@ausschreibungsradar.com
DTSTAMP:20260424T091301Z
DTSTART;VALUE=DATE:20250514
DTEND;VALUE=DATE:20250514
SUMMARY:Vergabeergebnis — Sicherheitsdienst kommunale Notunterkunft Am Ühlchen
DESCRIPTION:Phase: Vergabeergebnis | Beschreibung: Auftrag wurde zugeschlagen | Link: https://ausschreibungsradar.com/ausschreibung/b6c16207-7f2e-47e9-a15a-50bf4a9aa36f/
URL:https://ausschreibungsradar.com/ausschreibung/b6c16207-7f2e-47e9-a15a-50bf4a9aa36f/
END:VEVENT
END:VCALENDAR
