BEGIN:VCALENDAR
VERSION:2.0
PRODID:-//AusschreibungsRadar//Timeline//DE
CALSCALE:GREGORIAN
METHOD:PUBLISH
X-WR-CALNAME:Projekt Sanierung der Albert-Schweitzer-Sporthalle in Alzey – TGA
X-WR-TIMEZONE:Europe/Berlin
BEGIN:VEVENT
UID:ef944922b9c776bf@ausschreibungsradar.com
DTSTAMP:20260425T023911Z
DTSTART;VALUE=DATE:20260305
DTEND;VALUE=DATE:20260305
SUMMARY:Ausschreibung — Sanierung der Albert-Schweitzer-Sporthalle in Alzey – TGA
DESCRIPTION:Phase: Ausschreibung | Beschreibung: Angebote werden eingeholt | Link: https://ausschreibungsradar.com/ausschreibung/b72f341d-2ac1-4166-a1c4-75520dd54850/
URL:https://ausschreibungsradar.com/ausschreibung/b72f341d-2ac1-4166-a1c4-75520dd54850/
END:VEVENT
BEGIN:VEVENT
UID:3892ad8423f53392@ausschreibungsradar.com
DTSTAMP:20260425T023911Z
DTSTART;VALUE=DATE:20260305
DTEND;VALUE=DATE:20260305
SUMMARY:Ausschreibung — Sanierung der Albert-Schweitzer-Sporthalle in Alzey – TGA
DESCRIPTION:Phase: Ausschreibung | Beschreibung: Offizielle Ausschreibung mit Bieterfrist. | Link: https://ausschreibungsradar.com/ausschreibung/1beb5d6a-d8cf-4e4f-91ba-af24336e6259/
URL:https://ausschreibungsradar.com/ausschreibung/1beb5d6a-d8cf-4e4f-91ba-af24336e6259/
END:VEVENT
END:VCALENDAR
