BEGIN:VCALENDAR
VERSION:2.0
PRODID:-//AusschreibungsRadar//Timeline//DE
CALSCALE:GREGORIAN
METHOD:PUBLISH
X-WR-CALNAME:Projekt St. Elisabeth Hospital Beckum - Aufstockung des Anbaus Bette
X-WR-TIMEZONE:Europe/Berlin
BEGIN:VEVENT
UID:72fbbdf9408c9a03@ausschreibungsradar.com
DTSTAMP:20260426T040717Z
DTSTART;VALUE=DATE:20250325
DTEND;VALUE=DATE:20250325
SUMMARY:Angebotsfrist — St. Elisabeth Hospital Beckum - Aufstockung des Anbaus Bette
DESCRIPTION:Phase: Ausschreibung | Beschreibung: Angebote werden eingeholt | Link: https://ausschreibungsradar.com/ausschreibung/b75c5af5-7f4c-4bae-a315-15c05b65da39/
URL:https://ausschreibungsradar.com/ausschreibung/b75c5af5-7f4c-4bae-a315-15c05b65da39/
END:VEVENT
BEGIN:VEVENT
UID:b73e98c19309f2a8@ausschreibungsradar.com
DTSTAMP:20260426T040717Z
DTSTART;VALUE=DATE:20250515
DTEND;VALUE=DATE:20250515
SUMMARY:Vergabeergebnis — St. Elisabeth Hospital Beckum - Aufstockung des Anbaus Bette
DESCRIPTION:Phase: Vergabeergebnis | Beschreibung: Auftrag wurde zugeschlagen | Link: https://ausschreibungsradar.com/ausschreibung/6d20b29f-254c-4bbf-8dd5-c387a1c60c8a/
URL:https://ausschreibungsradar.com/ausschreibung/6d20b29f-254c-4bbf-8dd5-c387a1c60c8a/
END:VEVENT
END:VCALENDAR
