BEGIN:VCALENDAR
VERSION:2.0
PRODID:-//AusschreibungsRadar//Timeline//DE
CALSCALE:GREGORIAN
METHOD:PUBLISH
X-WR-CALNAME:Projekt Übernahme, Transport und Vermarktung von PPK
X-WR-TIMEZONE:Europe/Berlin
BEGIN:VEVENT
UID:d7b8e288609eb337@ausschreibungsradar.com
DTSTAMP:20260425T123838Z
DTSTART;VALUE=DATE:20260209
DTEND;VALUE=DATE:20260209
SUMMARY:Ausschreibung — Übernahme\, Transport und Vermarktung von PPK
DESCRIPTION:Phase: Ausschreibung | Beschreibung: Angebote werden eingeholt | Link: https://ausschreibungsradar.com/ausschreibung/b77dcf4c-a45e-4f43-9020-22f7c1c5b1a6/
URL:https://ausschreibungsradar.com/ausschreibung/b77dcf4c-a45e-4f43-9020-22f7c1c5b1a6/
END:VEVENT
BEGIN:VEVENT
UID:e9613e872b14425a@ausschreibungsradar.com
DTSTAMP:20260425T123838Z
DTSTART;VALUE=DATE:20260209
DTEND;VALUE=DATE:20260209
SUMMARY:Ausschreibung — Übernahme\, Transport und Vermarktung von PPK
DESCRIPTION:Phase: Ausschreibung | Beschreibung: Offizielle Ausschreibung mit Bieterfrist. | Link: https://ausschreibungsradar.com/ausschreibung/80c23524-4d33-45bf-9f74-9ba2e7b37302/
URL:https://ausschreibungsradar.com/ausschreibung/80c23524-4d33-45bf-9f74-9ba2e7b37302/
END:VEVENT
BEGIN:VEVENT
UID:df96dc64a6050270@ausschreibungsradar.com
DTSTAMP:20260425T123838Z
DTSTART;VALUE=DATE:20260326
DTEND;VALUE=DATE:20260326
SUMMARY:Vergabeergebnis — Übernahme\, Transport und Vermarktung von PPK
DESCRIPTION:Phase: Vergabeergebnis | Beschreibung: Auftrag wurde zugeschlagen | Link: https://ausschreibungsradar.com/ausschreibung/bee37add-0691-4433-a036-3388beac5736/
URL:https://ausschreibungsradar.com/ausschreibung/bee37add-0691-4433-a036-3388beac5736/
END:VEVENT
END:VCALENDAR
