BEGIN:VCALENDAR
VERSION:2.0
PRODID:-//AusschreibungsRadar//Timeline//DE
CALSCALE:GREGORIAN
METHOD:PUBLISH
X-WR-CALNAME:Projekt Anbau Hortgebäude Grundschule Wormstedt
X-WR-TIMEZONE:Europe/Berlin
BEGIN:VEVENT
UID:1704158b2a68eff7@ausschreibungsradar.com
DTSTAMP:20260424T204816Z
DTSTART;VALUE=DATE:20250325
DTEND;VALUE=DATE:20250325
SUMMARY:Angebotsfrist — Anbau Hortgebäude Grundschule Wormstedt
DESCRIPTION:Phase: Ausschreibung | Beschreibung: Angebote werden eingeholt | Link: https://ausschreibungsradar.com/ausschreibung/b7d7dc79-0eec-4821-af99-604e740bdf25/
URL:https://ausschreibungsradar.com/ausschreibung/b7d7dc79-0eec-4821-af99-604e740bdf25/
END:VEVENT
END:VCALENDAR
