BEGIN:VCALENDAR
VERSION:2.0
PRODID:-//AusschreibungsRadar//Timeline//DE
CALSCALE:GREGORIAN
METHOD:PUBLISH
X-WR-CALNAME:Projekt Druckdienstleistungen
X-WR-TIMEZONE:Europe/Berlin
BEGIN:VEVENT
UID:3685966d18badd4f@ausschreibungsradar.com
DTSTAMP:20260425T034258Z
DTSTART;VALUE=DATE:20250902
DTEND;VALUE=DATE:20250902
SUMMARY:Ausschreibung — Druckdienstleistungen
DESCRIPTION:Phase: Ausschreibung | Beschreibung: Angebote werden eingeholt | Link: https://ausschreibungsradar.com/ausschreibung/7f350bd5-27cd-4c62-b113-89c25104cfa2/
URL:https://ausschreibungsradar.com/ausschreibung/7f350bd5-27cd-4c62-b113-89c25104cfa2/
END:VEVENT
BEGIN:VEVENT
UID:51a33fc16bb57f37@ausschreibungsradar.com
DTSTAMP:20260425T034258Z
DTSTART;VALUE=DATE:20250902
DTEND;VALUE=DATE:20250902
SUMMARY:Ausschreibung — Druckdienstleistungen
DESCRIPTION:Phase: Ausschreibung | Beschreibung: Offizielle Ausschreibung mit Bieterfrist. | Link: https://ausschreibungsradar.com/ausschreibung/d3a48407-f604-473f-bcf0-260df9b63cea/
URL:https://ausschreibungsradar.com/ausschreibung/d3a48407-f604-473f-bcf0-260df9b63cea/
END:VEVENT
BEGIN:VEVENT
UID:88d66daa449bcac4@ausschreibungsradar.com
DTSTAMP:20260425T034258Z
DTSTART;VALUE=DATE:20260119
DTEND;VALUE=DATE:20260119
SUMMARY:Vergabeergebnis — Druckdienstleistungen
DESCRIPTION:Phase: Vergabeergebnis | Beschreibung: Auftrag wurde zugeschlagen | Link: https://ausschreibungsradar.com/ausschreibung/b7fab926-89ab-4262-a158-32ecea49c06b/
URL:https://ausschreibungsradar.com/ausschreibung/b7fab926-89ab-4262-a158-32ecea49c06b/
END:VEVENT
END:VCALENDAR
