BEGIN:VCALENDAR
VERSION:2.0
PRODID:-//AusschreibungsRadar//Timeline//DE
CALSCALE:GREGORIAN
METHOD:PUBLISH
X-WR-CALNAME:Projekt Stadtumbaubeauftragte oder Stadtumbaubeauftragter im Rahmen 
X-WR-TIMEZONE:Europe/Berlin
BEGIN:VEVENT
UID:ca0edfd3f7ed2a1d@ausschreibungsradar.com
DTSTAMP:20260424T203630Z
DTSTART;VALUE=DATE:20250429
DTEND;VALUE=DATE:20250429
SUMMARY:Angebotsfrist — Stadtumbaubeauftragte oder Stadtumbaubeauftragter im Rahmen 
DESCRIPTION:Phase: Ausschreibung | Beschreibung: Angebote werden eingeholt | Link: https://ausschreibungsradar.com/ausschreibung/b82743c0-73ff-4a06-b58a-35de0bc6eb85/
URL:https://ausschreibungsradar.com/ausschreibung/b82743c0-73ff-4a06-b58a-35de0bc6eb85/
END:VEVENT
END:VCALENDAR
