BEGIN:VCALENDAR
VERSION:2.0
PRODID:-//AusschreibungsRadar//Timeline//DE
CALSCALE:GREGORIAN
METHOD:PUBLISH
X-WR-CALNAME:Projekt Malerarbeiten - Erweiterungsbau Grundschule Helpup
X-WR-TIMEZONE:Europe/Berlin
BEGIN:VEVENT
UID:c2b1f8bffbdbc6f1@ausschreibungsradar.com
DTSTAMP:20260424T190918Z
DTSTART;VALUE=DATE:20251027
DTEND;VALUE=DATE:20251027
SUMMARY:Angebotsfrist — Malerarbeiten - Erweiterungsbau Grundschule Helpup
DESCRIPTION:Phase: Ausschreibung | Beschreibung: Angebote werden eingeholt | Link: https://ausschreibungsradar.com/ausschreibung/b8487afc-28f4-4b6b-b37f-1e54776c07eb/
URL:https://ausschreibungsradar.com/ausschreibung/b8487afc-28f4-4b6b-b37f-1e54776c07eb/
END:VEVENT
BEGIN:VEVENT
UID:9ba8fa3197fd8a1b@ausschreibungsradar.com
DTSTAMP:20260424T190918Z
DTSTART;VALUE=DATE:20251121
DTEND;VALUE=DATE:20251121
SUMMARY:Vergabeergebnis — Malerarbeiten - Erweiterungsbau Grundschule Helpup
DESCRIPTION:Phase: Vergabeergebnis | Beschreibung: Auftrag wurde zugeschlagen | Link: https://ausschreibungsradar.com/ausschreibung/986e30b4-fffe-487b-a40d-b9476bec1d71/
URL:https://ausschreibungsradar.com/ausschreibung/986e30b4-fffe-487b-a40d-b9476bec1d71/
END:VEVENT
END:VCALENDAR
