BEGIN:VCALENDAR
VERSION:2.0
PRODID:-//AusschreibungsRadar//Timeline//DE
CALSCALE:GREGORIAN
METHOD:PUBLISH
X-WR-CALNAME:Projekt AE - Teilneubau der Grundschule Groß Berkel - Technische Wär
X-WR-TIMEZONE:Europe/Berlin
BEGIN:VEVENT
UID:ca9bb209d3cf1190@ausschreibungsradar.com
DTSTAMP:20260425T031137Z
DTSTART;VALUE=DATE:20250124
DTEND;VALUE=DATE:20250124
SUMMARY:Ausschreibung — AE - Teilneubau der Grundschule Groß Berkel - Technische Wär
DESCRIPTION:Phase: Ausschreibung | Beschreibung: Offizielle Ausschreibung mit Bieterfrist. | Link: https://ausschreibungsradar.com/ausschreibung/ea613762-4695-44f2-9be1-993af6e5d433/
URL:https://ausschreibungsradar.com/ausschreibung/ea613762-4695-44f2-9be1-993af6e5d433/
END:VEVENT
BEGIN:VEVENT
UID:cace97072d930871@ausschreibungsradar.com
DTSTAMP:20260425T031137Z
DTSTART;VALUE=DATE:20250212
DTEND;VALUE=DATE:20250212
SUMMARY:Zuschlag — AE - Teilneubau der Grundschule Groß Berkel - Technische Wär
DESCRIPTION:Phase: Zuschlag | Beschreibung: Vergabeergebnis — Auftrag wurde erteilt oder Verfahren beendet. | Link: https://ausschreibungsradar.com/ausschreibung/c1a684c1-af46-4ca4-a825-e8eed9a36a1d/
URL:https://ausschreibungsradar.com/ausschreibung/c1a684c1-af46-4ca4-a825-e8eed9a36a1d/
END:VEVENT
BEGIN:VEVENT
UID:5da860a874866448@ausschreibungsradar.com
DTSTAMP:20260425T031137Z
DTSTART;VALUE=DATE:20250325
DTEND;VALUE=DATE:20250325
SUMMARY:Angebotsfrist — AE - Teilneubau der Grundschule Groß Berkel - Technische Wär
DESCRIPTION:Phase: Ausschreibung | Beschreibung: Angebote werden eingeholt | Link: https://ausschreibungsradar.com/ausschreibung/b87aeb01-da11-48d9-b03c-0b24605d22ee/
URL:https://ausschreibungsradar.com/ausschreibung/b87aeb01-da11-48d9-b03c-0b24605d22ee/
END:VEVENT
BEGIN:VEVENT
UID:6cc388aabed20e37@ausschreibungsradar.com
DTSTAMP:20260425T031137Z
DTSTART;VALUE=DATE:20250513
DTEND;VALUE=DATE:20250513
SUMMARY:Vergabeergebnis — AE - Teilneubau der Grundschule Groß Berkel - Technische Wär
DESCRIPTION:Phase: Vergabeergebnis | Beschreibung: Auftrag wurde zugeschlagen | Link: https://ausschreibungsradar.com/ausschreibung/2397c77f-3809-49da-ac14-311ae1991ff1/
URL:https://ausschreibungsradar.com/ausschreibung/2397c77f-3809-49da-ac14-311ae1991ff1/
END:VEVENT
END:VCALENDAR
