BEGIN:VCALENDAR
VERSION:2.0
PRODID:-//AusschreibungsRadar//Timeline//DE
CALSCALE:GREGORIAN
METHOD:PUBLISH
X-WR-CALNAME:Projekt Sanierung Freibad Adendorf - Lüftungstechnik
X-WR-TIMEZONE:Europe/Berlin
BEGIN:VEVENT
UID:80c71057e3dd1ebb@ausschreibungsradar.com
DTSTAMP:20260425T213618Z
DTSTART;VALUE=DATE:20250124
DTEND;VALUE=DATE:20250124
SUMMARY:Angebotsfrist — Sanierung Freibad Adendorf - Lüftungstechnik
DESCRIPTION:Phase: Ausschreibung | Beschreibung: Angebote werden eingeholt | Link: https://ausschreibungsradar.com/ausschreibung/bd64084f-b3cd-4275-8d6a-1fdc5a455e3d/
URL:https://ausschreibungsradar.com/ausschreibung/bd64084f-b3cd-4275-8d6a-1fdc5a455e3d/
END:VEVENT
BEGIN:VEVENT
UID:df91a2401a91c5af@ausschreibungsradar.com
DTSTAMP:20260425T213618Z
DTSTART;VALUE=DATE:20241219
DTEND;VALUE=DATE:20241219
SUMMARY:Ausschreibung — Sanierung Freibad Adendorf - Lüftungstechnik
DESCRIPTION:Phase: Ausschreibung | Beschreibung: Offizielle Ausschreibung mit Bieterfrist. | Link: https://ausschreibungsradar.com/ausschreibung/8aaae978-8135-42e0-a51f-29832653802a/
URL:https://ausschreibungsradar.com/ausschreibung/8aaae978-8135-42e0-a51f-29832653802a/
END:VEVENT
BEGIN:VEVENT
UID:1010e765474c03af@ausschreibungsradar.com
DTSTAMP:20260425T213618Z
DTSTART;VALUE=DATE:20250301
DTEND;VALUE=DATE:20250301
SUMMARY:Vergabeergebnis — Sanierung Freibad Adendorf - Lüftungstechnik
DESCRIPTION:Phase: Vergabeergebnis | Beschreibung: Auftrag wurde zugeschlagen | Link: https://ausschreibungsradar.com/ausschreibung/b90fdef5-d14f-44d8-8c98-9cf496fd5763/ | Auftragnehmer: Hanse-Klima e.K.
URL:https://ausschreibungsradar.com/ausschreibung/b90fdef5-d14f-44d8-8c98-9cf496fd5763/
END:VEVENT
END:VCALENDAR
