BEGIN:VCALENDAR
VERSION:2.0
PRODID:-//AusschreibungsRadar//Timeline//DE
CALSCALE:GREGORIAN
METHOD:PUBLISH
X-WR-CALNAME:Projekt BA I - Generalsanierung Grund- und Mittelschule
X-WR-TIMEZONE:Europe/Berlin
BEGIN:VEVENT
UID:73c597329c55188f@ausschreibungsradar.com
DTSTAMP:20260426T021045Z
DTSTART;VALUE=DATE:20250130
DTEND;VALUE=DATE:20250130
SUMMARY:Angebotsfrist — BA I - Generalsanierung Grund- und Mittelschule
DESCRIPTION:Phase: Ausschreibung | Beschreibung: Angebote werden eingeholt | Link: https://ausschreibungsradar.com/ausschreibung/b930b138-e6ec-4621-9844-db7ba1bf11ae/
URL:https://ausschreibungsradar.com/ausschreibung/b930b138-e6ec-4621-9844-db7ba1bf11ae/
END:VEVENT
BEGIN:VEVENT
UID:65a58fdf302cbe8a@ausschreibungsradar.com
DTSTAMP:20260426T021045Z
DTSTART;VALUE=DATE:20241217
DTEND;VALUE=DATE:20241217
SUMMARY:Ausschreibung — BA I - Generalsanierung Grund- und Mittelschule
DESCRIPTION:Phase: Ausschreibung | Beschreibung: Offizielle Ausschreibung mit Bieterfrist. | Link: https://ausschreibungsradar.com/ausschreibung/7db8e2b1-4998-4fdf-9501-22f7f07e946a/
URL:https://ausschreibungsradar.com/ausschreibung/7db8e2b1-4998-4fdf-9501-22f7f07e946a/
END:VEVENT
END:VCALENDAR
