BEGIN:VCALENDAR
VERSION:2.0
PRODID:-//AusschreibungsRadar//Timeline//DE
CALSCALE:GREGORIAN
METHOD:PUBLISH
X-WR-CALNAME:Projekt A 4 Fahrbahnerneuerung Bautzen-Ost - Kodersdorf BA 2; Los Er
X-WR-TIMEZONE:Europe/Berlin
BEGIN:VEVENT
UID:c98ce524033c80c6@ausschreibungsradar.com
DTSTAMP:20260425T190935Z
DTSTART;VALUE=DATE:20260212
DTEND;VALUE=DATE:20260212
SUMMARY:Ausschreibung — A 4 Fahrbahnerneuerung Bautzen-Ost - Kodersdorf BA 2\; Los Er
DESCRIPTION:Phase: Ausschreibung | Beschreibung: Offizielle Ausschreibung mit Bieterfrist. | Link: https://ausschreibungsradar.com/ausschreibung/24984348/
URL:https://ausschreibungsradar.com/ausschreibung/24984348/
END:VEVENT
BEGIN:VEVENT
UID:1d280a8e57babf0b@ausschreibungsradar.com
DTSTAMP:20260425T190935Z
DTSTART;VALUE=DATE:20260324
DTEND;VALUE=DATE:20260324
SUMMARY:Angebotsfrist — A 4 Fahrbahnerneuerung Bautzen-Ost - Kodersdorf BA 2\; Los Er
DESCRIPTION:Phase: Ausschreibung | Beschreibung: Angebote werden eingeholt | Link: https://ausschreibungsradar.com/ausschreibung/b97a0142-d2ff-4063-bfe5-983398f9cba1/ | Geschätzter Wert: 10964537 €
URL:https://ausschreibungsradar.com/ausschreibung/b97a0142-d2ff-4063-bfe5-983398f9cba1/
END:VEVENT
END:VCALENDAR
