BEGIN:VCALENDAR
VERSION:2.0
PRODID:-//AusschreibungsRadar//Timeline//DE
CALSCALE:GREGORIAN
METHOD:PUBLISH
X-WR-CALNAME:Projekt Planungsleistungen Elektrotechnik ALG 4+5_ab 2026 - Rathaus 
X-WR-TIMEZONE:Europe/Berlin
BEGIN:VEVENT
UID:fd6b81781134f503@ausschreibungsradar.com
DTSTAMP:20260425T011422Z
DTSTART;VALUE=DATE:20251203
DTEND;VALUE=DATE:20251203
SUMMARY:Angebotsfrist — Planungsleistungen Elektrotechnik ALG 4+5_ab 2026 - Rathaus 
DESCRIPTION:Phase: Ausschreibung | Beschreibung: Angebote werden eingeholt | Link: https://ausschreibungsradar.com/ausschreibung/b97a025c-7998-4207-90f2-2d20e6c80788/
URL:https://ausschreibungsradar.com/ausschreibung/b97a025c-7998-4207-90f2-2d20e6c80788/
END:VEVENT
BEGIN:VEVENT
UID:49db86351217f384@ausschreibungsradar.com
DTSTAMP:20260425T011422Z
DTSTART;VALUE=DATE:20251104
DTEND;VALUE=DATE:20251104
SUMMARY:Ausschreibung — Planungsleistungen Elektrotechnik ALG 4+5_ab 2026 - Rathaus 
DESCRIPTION:Phase: Ausschreibung | Beschreibung: Offizielle Ausschreibung mit Bieterfrist. | Link: https://ausschreibungsradar.com/ausschreibung/f6cc1167-1bb6-4448-8cb3-ead3e62b29ab/
URL:https://ausschreibungsradar.com/ausschreibung/f6cc1167-1bb6-4448-8cb3-ead3e62b29ab/
END:VEVENT
BEGIN:VEVENT
UID:6ae630856a44e49c@ausschreibungsradar.com
DTSTAMP:20260425T011422Z
DTSTART;VALUE=DATE:20251104
DTEND;VALUE=DATE:20251104
SUMMARY:Ausschreibung — Planungsleistungen Elektrotechnik ALG 4+5_ab 2026 - Rathaus 
DESCRIPTION:Phase: Ausschreibung | Beschreibung: Offizielle Ausschreibung mit Bieterfrist. | Link: https://ausschreibungsradar.com/ausschreibung/3f090e35-4041-4f7e-a952-271290979fc9/
URL:https://ausschreibungsradar.com/ausschreibung/3f090e35-4041-4f7e-a952-271290979fc9/
END:VEVENT
BEGIN:VEVENT
UID:739c495b7d4d2ec2@ausschreibungsradar.com
DTSTAMP:20260425T011422Z
DTSTART;VALUE=DATE:20260216
DTEND;VALUE=DATE:20260216
SUMMARY:Vergabeergebnis — Planungsleistungen Elektrotechnik ALG 4+5_ab 2026 - Rathaus 
DESCRIPTION:Phase: Vergabeergebnis | Beschreibung: Auftrag wurde zugeschlagen | Link: https://ausschreibungsradar.com/ausschreibung/687f5d65-1b98-4d2c-b87c-0c7a5e27c0d5/
URL:https://ausschreibungsradar.com/ausschreibung/687f5d65-1b98-4d2c-b87c-0c7a5e27c0d5/
END:VEVENT
END:VCALENDAR
