BEGIN:VCALENDAR
VERSION:2.0
PRODID:-//AusschreibungsRadar//Timeline//DE
CALSCALE:GREGORIAN
METHOD:PUBLISH
X-WR-CALNAME:Projekt Leasing und Kauf E-Transporter
X-WR-TIMEZONE:Europe/Berlin
BEGIN:VEVENT
UID:5d662791b115c903@ausschreibungsradar.com
DTSTAMP:20260425T150225Z
DTSTART;VALUE=DATE:20240411
DTEND;VALUE=DATE:20240411
SUMMARY:Ausschreibung — Leasing und Kauf E-Transporter
DESCRIPTION:Phase: Ausschreibung | Beschreibung: Angebote werden eingeholt | Link: https://ausschreibungsradar.com/ausschreibung/b97ea190-70d3-4d80-b814-c47d08756015/
URL:https://ausschreibungsradar.com/ausschreibung/b97ea190-70d3-4d80-b814-c47d08756015/
END:VEVENT
BEGIN:VEVENT
UID:28912f942d069e14@ausschreibungsradar.com
DTSTAMP:20260425T150225Z
DTSTART;VALUE=DATE:20240411
DTEND;VALUE=DATE:20240411
SUMMARY:Änderung — Leasing und Kauf E-Transporter
DESCRIPTION:Phase: Änderung | Beschreibung: Verfahren abgebrochen | Link: https://ausschreibungsradar.com/ausschreibung/b97ea190-70d3-4d80-b814-c47d08756015/
URL:https://ausschreibungsradar.com/ausschreibung/b97ea190-70d3-4d80-b814-c47d08756015/
END:VEVENT
END:VCALENDAR
