BEGIN:VCALENDAR
VERSION:2.0
PRODID:-//AusschreibungsRadar//Timeline//DE
CALSCALE:GREGORIAN
METHOD:PUBLISH
X-WR-CALNAME:Projekt Grundschule Gendorf, MSR-Technik
X-WR-TIMEZONE:Europe/Berlin
BEGIN:VEVENT
UID:aead14019e25f839@ausschreibungsradar.com
DTSTAMP:20260425T104519Z
DTSTART;VALUE=DATE:20251110
DTEND;VALUE=DATE:20251110
SUMMARY:Angebotsfrist — Grundschule Gendorf\, MSR-Technik
DESCRIPTION:Phase: Ausschreibung | Beschreibung: Angebote werden eingeholt | Link: https://ausschreibungsradar.com/ausschreibung/b9a6353e-9ca0-4d01-b887-5c5b35f27008/
URL:https://ausschreibungsradar.com/ausschreibung/b9a6353e-9ca0-4d01-b887-5c5b35f27008/
END:VEVENT
BEGIN:VEVENT
UID:d8cc2e693bb3c52e@ausschreibungsradar.com
DTSTAMP:20260425T104519Z
DTSTART;VALUE=DATE:20251010
DTEND;VALUE=DATE:20251010
SUMMARY:Ausschreibung — Grundschule Gendorf\, MSR-Technik
DESCRIPTION:Phase: Ausschreibung | Beschreibung: Offizielle Ausschreibung mit Bieterfrist. | Link: https://ausschreibungsradar.com/ausschreibung/ted-666097-2025/
URL:https://ausschreibungsradar.com/ausschreibung/ted-666097-2025/
END:VEVENT
BEGIN:VEVENT
UID:ea0e01793b858a6a@ausschreibungsradar.com
DTSTAMP:20260425T104519Z
DTSTART;VALUE=DATE:20251205
DTEND;VALUE=DATE:20251205
SUMMARY:Vergabeergebnis — Grundschule Gendorf\, MSR-Technik
DESCRIPTION:Phase: Vergabeergebnis | Beschreibung: Auftrag wurde zugeschlagen | Link: https://ausschreibungsradar.com/ausschreibung/177ade97-e438-4a28-b5f6-da98457c7f91/
URL:https://ausschreibungsradar.com/ausschreibung/177ade97-e438-4a28-b5f6-da98457c7f91/
END:VEVENT
END:VCALENDAR
