BEGIN:VCALENDAR
VERSION:2.0
PRODID:-//AusschreibungsRadar//Timeline//DE
CALSCALE:GREGORIAN
METHOD:PUBLISH
X-WR-CALNAME:Projekt Gerätewagen Logistik GW-L2
X-WR-TIMEZONE:Europe/Berlin
BEGIN:VEVENT
UID:e2318d4c7054f1ad@ausschreibungsradar.com
DTSTAMP:20260424T064110Z
DTSTART;VALUE=DATE:20250422
DTEND;VALUE=DATE:20250422
SUMMARY:Angebotsfrist — Gerätewagen Logistik GW-L2
DESCRIPTION:Phase: Ausschreibung | Beschreibung: Angebote werden eingeholt | Link: https://ausschreibungsradar.com/ausschreibung/b9af913e-ca30-4b4d-8095-3d72f4f58a11/
URL:https://ausschreibungsradar.com/ausschreibung/b9af913e-ca30-4b4d-8095-3d72f4f58a11/
END:VEVENT
BEGIN:VEVENT
UID:944a0ce43e85117d@ausschreibungsradar.com
DTSTAMP:20260424T064110Z
DTSTART;VALUE=DATE:20250619
DTEND;VALUE=DATE:20250619
SUMMARY:Vergabeergebnis — Gerätewagen Logistik GW-L2
DESCRIPTION:Phase: Vergabeergebnis | Beschreibung: Auftrag wurde zugeschlagen | Link: https://ausschreibungsradar.com/ausschreibung/047c2f76-756a-411b-85c8-353c488966d6/
URL:https://ausschreibungsradar.com/ausschreibung/047c2f76-756a-411b-85c8-353c488966d6/
END:VEVENT
END:VCALENDAR
