BEGIN:VCALENDAR
VERSION:2.0
PRODID:-//AusschreibungsRadar//Timeline//DE
CALSCALE:GREGORIAN
METHOD:PUBLISH
X-WR-CALNAME:Projekt Fachplanung Brandmeldeanlage zur Minimalsanierung Geb. 003
X-WR-TIMEZONE:Europe/Berlin
BEGIN:VEVENT
UID:852ab48cca0f147c@ausschreibungsradar.com
DTSTAMP:20260425T162614Z
DTSTART;VALUE=DATE:20260119
DTEND;VALUE=DATE:20260119
SUMMARY:Angebotsfrist — Fachplanung Brandmeldeanlage zur Minimalsanierung Geb. 003
DESCRIPTION:Phase: Ausschreibung | Beschreibung: Angebote werden eingeholt | Link: https://ausschreibungsradar.com/ausschreibung/ba22cbfb-0de8-4417-88f8-7961ec5855ce/
URL:https://ausschreibungsradar.com/ausschreibung/ba22cbfb-0de8-4417-88f8-7961ec5855ce/
END:VEVENT
BEGIN:VEVENT
UID:30284d850ca71434@ausschreibungsradar.com
DTSTAMP:20260425T162614Z
DTSTART;VALUE=DATE:20260216
DTEND;VALUE=DATE:20260216
SUMMARY:Vergabeergebnis — Fachplanung Brandmeldeanlage zur Minimalsanierung Geb. 003
DESCRIPTION:Phase: Vergabeergebnis | Beschreibung: Auftrag wurde zugeschlagen | Link: https://ausschreibungsradar.com/ausschreibung/9275731c-1509-41aa-8078-2308a1a033ea/
URL:https://ausschreibungsradar.com/ausschreibung/9275731c-1509-41aa-8078-2308a1a033ea/
END:VEVENT
END:VCALENDAR
