BEGIN:VCALENDAR
VERSION:2.0
PRODID:-//AusschreibungsRadar//Timeline//DE
CALSCALE:GREGORIAN
METHOD:PUBLISH
X-WR-CALNAME:Projekt Krummennaab - Soziales Zentrum | Lüftungsanlagen
X-WR-TIMEZONE:Europe/Berlin
BEGIN:VEVENT
UID:550222c54408da36@ausschreibungsradar.com
DTSTAMP:20260424T223733Z
DTSTART;VALUE=DATE:20241205
DTEND;VALUE=DATE:20241205
SUMMARY:Ausschreibung — Krummennaab - Soziales Zentrum | Lüftungsanlagen
DESCRIPTION:Phase: Ausschreibung | Beschreibung: Angebote werden eingeholt | Link: https://ausschreibungsradar.com/ausschreibung/ba2ac92b-6f19-41b4-ae9a-6c7938bdda58/
URL:https://ausschreibungsradar.com/ausschreibung/ba2ac92b-6f19-41b4-ae9a-6c7938bdda58/
END:VEVENT
BEGIN:VEVENT
UID:aba72c033942cce3@ausschreibungsradar.com
DTSTAMP:20260424T223733Z
DTSTART;VALUE=DATE:20241205
DTEND;VALUE=DATE:20241205
SUMMARY:Ausschreibung — Krummennaab - Soziales Zentrum | Lüftungsanlagen
DESCRIPTION:Phase: Ausschreibung | Beschreibung: Offizielle Ausschreibung mit Bieterfrist. | Link: https://ausschreibungsradar.com/ausschreibung/f385c858-ec66-496a-b8a4-c661d3d1244a/
URL:https://ausschreibungsradar.com/ausschreibung/f385c858-ec66-496a-b8a4-c661d3d1244a/
END:VEVENT
BEGIN:VEVENT
UID:3d27b8a5f9c90ee9@ausschreibungsradar.com
DTSTAMP:20260424T223733Z
DTSTART;VALUE=DATE:20241205
DTEND;VALUE=DATE:20241205
SUMMARY:Ausschreibung — Krummennaab - Soziales Zentrum | Lüftungsanlagen
DESCRIPTION:Phase: Ausschreibung | Beschreibung: Offizielle Ausschreibung mit Bieterfrist. | Link: https://ausschreibungsradar.com/ausschreibung/5066f429-4abc-43eb-8f46-a0d2fa6b9f15/
URL:https://ausschreibungsradar.com/ausschreibung/5066f429-4abc-43eb-8f46-a0d2fa6b9f15/
END:VEVENT
END:VCALENDAR
