BEGIN:VCALENDAR
VERSION:2.0
PRODID:-//AusschreibungsRadar//Timeline//DE
CALSCALE:GREGORIAN
METHOD:PUBLISH
X-WR-CALNAME:Projekt Aussenanlagen
X-WR-TIMEZONE:Europe/Berlin
BEGIN:VEVENT
UID:549661af6fbfff13@ausschreibungsradar.com
DTSTAMP:20260425T154959Z
DTSTART;VALUE=DATE:20250422
DTEND;VALUE=DATE:20250422
SUMMARY:Angebotsfrist — Aussenanlagen
DESCRIPTION:Phase: Ausschreibung | Beschreibung: Angebote werden eingeholt | Link: https://ausschreibungsradar.com/ausschreibung/ba3edac7-0c59-495c-9dbe-5776eea87f11/
URL:https://ausschreibungsradar.com/ausschreibung/ba3edac7-0c59-495c-9dbe-5776eea87f11/
END:VEVENT
BEGIN:VEVENT
UID:7356f4f67a26cd76@ausschreibungsradar.com
DTSTAMP:20260425T154959Z
DTSTART;VALUE=DATE:20250623
DTEND;VALUE=DATE:20250623
SUMMARY:Vergabeergebnis — Aussenanlagen
DESCRIPTION:Phase: Vergabeergebnis | Beschreibung: Auftrag wurde zugeschlagen | Link: https://ausschreibungsradar.com/ausschreibung/1b65723f-0ab8-4ca6-a0ca-b499329d15c0/
URL:https://ausschreibungsradar.com/ausschreibung/1b65723f-0ab8-4ca6-a0ca-b499329d15c0/
END:VEVENT
END:VCALENDAR
