BEGIN:VCALENDAR
VERSION:2.0
PRODID:-//AusschreibungsRadar//Timeline//DE
CALSCALE:GREGORIAN
METHOD:PUBLISH
X-WR-CALNAME:Projekt Erweiterung Grundschule Trostberg - Gewerk: Baumeisterarbeit
X-WR-TIMEZONE:Europe/Berlin
BEGIN:VEVENT
UID:92b3954db303d763@ausschreibungsradar.com
DTSTAMP:20260424T120424Z
DTSTART;VALUE=DATE:20250407
DTEND;VALUE=DATE:20250407
SUMMARY:Angebotsfrist — Erweiterung Grundschule Trostberg - Gewerk: Baumeisterarbeit
DESCRIPTION:Phase: Ausschreibung | Beschreibung: Angebote werden eingeholt | Link: https://ausschreibungsradar.com/ausschreibung/bbaa0712-2df1-481f-acfa-abb092bdc1a9/ | Geschätzter Wert: 2590360 €
URL:https://ausschreibungsradar.com/ausschreibung/bbaa0712-2df1-481f-acfa-abb092bdc1a9/
END:VEVENT
BEGIN:VEVENT
UID:1f41c87feba6e19c@ausschreibungsradar.com
DTSTAMP:20260424T120424Z
DTSTART;VALUE=DATE:20250303
DTEND;VALUE=DATE:20250303
SUMMARY:Ausschreibung — Erweiterung Grundschule Trostberg - Gewerk: Baumeisterarbeit
DESCRIPTION:Phase: Ausschreibung | Beschreibung: Offizielle Ausschreibung mit Bieterfrist. | Link: https://ausschreibungsradar.com/ausschreibung/7159ccae-23f5-4978-bcdc-cf25c76a1d8f/
URL:https://ausschreibungsradar.com/ausschreibung/7159ccae-23f5-4978-bcdc-cf25c76a1d8f/
END:VEVENT
BEGIN:VEVENT
UID:684aafb5e7520556@ausschreibungsradar.com
DTSTAMP:20260424T120424Z
DTSTART;VALUE=DATE:20250304
DTEND;VALUE=DATE:20250304
SUMMARY:Ausschreibung — Erweiterung Grundschule Trostberg - Gewerk: Baumeisterarbeit
DESCRIPTION:Phase: Ausschreibung | Beschreibung: Offizielle Ausschreibung mit Bieterfrist. | Link: https://ausschreibungsradar.com/ausschreibung/b96c1b60-07c3-47ab-afcc-7d8fc08e63eb/
URL:https://ausschreibungsradar.com/ausschreibung/b96c1b60-07c3-47ab-afcc-7d8fc08e63eb/
END:VEVENT
BEGIN:VEVENT
UID:ec7ae1499554c7d4@ausschreibungsradar.com
DTSTAMP:20260424T120424Z
DTSTART;VALUE=DATE:20250305
DTEND;VALUE=DATE:20250305
SUMMARY:Ausschreibung — Erweiterung Grundschule Trostberg - Gewerk: Baumeisterarbeit
DESCRIPTION:Phase: Ausschreibung | Beschreibung: Offizielle Ausschreibung mit Bieterfrist. | Link: https://ausschreibungsradar.com/ausschreibung/cd779d35-a1af-4349-bfda-c1baf3c4d5e6/
URL:https://ausschreibungsradar.com/ausschreibung/cd779d35-a1af-4349-bfda-c1baf3c4d5e6/
END:VEVENT
BEGIN:VEVENT
UID:b274e58e87609636@ausschreibungsradar.com
DTSTAMP:20260424T120424Z
DTSTART;VALUE=DATE:20250305
DTEND;VALUE=DATE:20250305
SUMMARY:Ausschreibung — Erweiterung Grundschule Trostberg - Gewerk: Baumeisterarbeit
DESCRIPTION:Phase: Ausschreibung | Beschreibung: Offizielle Ausschreibung mit Bieterfrist. | Link: https://ausschreibungsradar.com/ausschreibung/8a16a3ec-cb8f-45ee-b2b1-aabd5127df2f/
URL:https://ausschreibungsradar.com/ausschreibung/8a16a3ec-cb8f-45ee-b2b1-aabd5127df2f/
END:VEVENT
BEGIN:VEVENT
UID:52db79a4d7fda696@ausschreibungsradar.com
DTSTAMP:20260424T120424Z
DTSTART;VALUE=DATE:20250604
DTEND;VALUE=DATE:20250604
SUMMARY:Vergabeergebnis — Erweiterung Grundschule Trostberg - Gewerk: Baumeisterarbeit
DESCRIPTION:Phase: Vergabeergebnis | Beschreibung: Auftrag wurde zugeschlagen | Link: https://ausschreibungsradar.com/ausschreibung/be6471c1-eeea-4d54-ac3a-29d29f574df1/
URL:https://ausschreibungsradar.com/ausschreibung/be6471c1-eeea-4d54-ac3a-29d29f574df1/
END:VEVENT
END:VCALENDAR
