BEGIN:VCALENDAR
VERSION:2.0
PRODID:-//AusschreibungsRadar//Timeline//DE
CALSCALE:GREGORIAN
METHOD:PUBLISH
X-WR-CALNAME:Projekt Lieferung von Lagermaterial für Wasserver- und Abwasserentso
X-WR-TIMEZONE:Europe/Berlin
BEGIN:VEVENT
UID:5b8578f8aa982ef0@ausschreibungsradar.com
DTSTAMP:20260424T203406Z
DTSTART;VALUE=DATE:20251215
DTEND;VALUE=DATE:20251215
SUMMARY:Angebotsfrist — Lieferung von Lagermaterial für Wasserver- und Abwasserentso
DESCRIPTION:Phase: Ausschreibung | Beschreibung: Angebote werden eingeholt | Link: https://ausschreibungsradar.com/ausschreibung/bbc30fb2-2d2d-46fe-8970-ad88de428c23/
URL:https://ausschreibungsradar.com/ausschreibung/bbc30fb2-2d2d-46fe-8970-ad88de428c23/
END:VEVENT
END:VCALENDAR
