BEGIN:VCALENDAR
VERSION:2.0
PRODID:-//AusschreibungsRadar//Timeline//DE
CALSCALE:GREGORIAN
METHOD:PUBLISH
X-WR-CALNAME:Projekt SIEM/SOC: ESET Endpoint Protection (EDR)
X-WR-TIMEZONE:Europe/Berlin
BEGIN:VEVENT
UID:088b103c360990bd@ausschreibungsradar.com
DTSTAMP:20260424T090417Z
DTSTART;VALUE=DATE:20260224
DTEND;VALUE=DATE:20260224
SUMMARY:Angebotsfrist — SIEM/SOC: ESET Endpoint Protection (EDR)
DESCRIPTION:Phase: Ausschreibung | Beschreibung: Angebote werden eingeholt | Link: https://ausschreibungsradar.com/ausschreibung/bbc45951-e4ee-4dbe-9379-1f9c7c012348/
URL:https://ausschreibungsradar.com/ausschreibung/bbc45951-e4ee-4dbe-9379-1f9c7c012348/
END:VEVENT
BEGIN:VEVENT
UID:32bc17040df456a4@ausschreibungsradar.com
DTSTAMP:20260424T090417Z
DTSTART;VALUE=DATE:20260122
DTEND;VALUE=DATE:20260122
SUMMARY:Ausschreibung — SIEM/SOC: ESET Endpoint Protection (EDR)
DESCRIPTION:Phase: Ausschreibung | Beschreibung: Offizielle Ausschreibung mit Bieterfrist. | Link: https://ausschreibungsradar.com/ausschreibung/ee3ada09-a02e-4d41-a9ac-3f9fd575be4a/
URL:https://ausschreibungsradar.com/ausschreibung/ee3ada09-a02e-4d41-a9ac-3f9fd575be4a/
END:VEVENT
END:VCALENDAR
