BEGIN:VCALENDAR
VERSION:2.0
PRODID:-//AusschreibungsRadar//Timeline//DE
CALSCALE:GREGORIAN
METHOD:PUBLISH
X-WR-CALNAME:Projekt Universitätsklinikum Münster - Parken auf dem Versorgungszen
X-WR-TIMEZONE:Europe/Berlin
BEGIN:VEVENT
UID:46b80ccf94c982ad@ausschreibungsradar.com
DTSTAMP:20260426T021135Z
DTSTART;VALUE=DATE:20250113
DTEND;VALUE=DATE:20250113
SUMMARY:Zuschlag — Universitätsklinikum Münster - Parken auf dem Versorgungszen
DESCRIPTION:Phase: Zuschlag | Beschreibung: Vergabeergebnis — Auftrag wurde erteilt oder Verfahren beendet. | Link: https://ausschreibungsradar.com/ausschreibung/d6c49502-f751-480b-8dd2-3fc86eea165e/
URL:https://ausschreibungsradar.com/ausschreibung/d6c49502-f751-480b-8dd2-3fc86eea165e/
END:VEVENT
BEGIN:VEVENT
UID:b5f30d6b14993c90@ausschreibungsradar.com
DTSTAMP:20260426T021135Z
DTSTART;VALUE=DATE:20250116
DTEND;VALUE=DATE:20250116
SUMMARY:Ausschreibung — Universitätsklinikum Münster - Parken auf dem Versorgungszen
DESCRIPTION:Phase: Ausschreibung | Beschreibung: Offizielle Ausschreibung mit Bieterfrist. | Link: https://ausschreibungsradar.com/ausschreibung/8c43c89b-32d8-4c47-8703-ef5107138543/
URL:https://ausschreibungsradar.com/ausschreibung/8c43c89b-32d8-4c47-8703-ef5107138543/
END:VEVENT
BEGIN:VEVENT
UID:83eb36b91c6a68e2@ausschreibungsradar.com
DTSTAMP:20260426T021135Z
DTSTART;VALUE=DATE:20250210
DTEND;VALUE=DATE:20250210
SUMMARY:Ausschreibung — Universitätsklinikum Münster - Parken auf dem Versorgungszen
DESCRIPTION:Phase: Ausschreibung | Beschreibung: Angebote werden eingeholt | Link: https://ausschreibungsradar.com/ausschreibung/bbdb3e4d-9276-4074-8c7b-a6e873bcb7bb/
URL:https://ausschreibungsradar.com/ausschreibung/bbdb3e4d-9276-4074-8c7b-a6e873bcb7bb/
END:VEVENT
BEGIN:VEVENT
UID:ab0c6277b2ed92bd@ausschreibungsradar.com
DTSTAMP:20260426T021135Z
DTSTART;VALUE=DATE:20260122
DTEND;VALUE=DATE:20260122
SUMMARY:Vergabeergebnis — Universitätsklinikum Münster - Parken auf dem Versorgungszen
DESCRIPTION:Phase: Vergabeergebnis | Beschreibung: Bedarf hat sich geändert | Link: https://ausschreibungsradar.com/ausschreibung/d3b94df1-517b-4594-a4e3-4a5645a81219/
URL:https://ausschreibungsradar.com/ausschreibung/d3b94df1-517b-4594-a4e3-4a5645a81219/
END:VEVENT
END:VCALENDAR
