BEGIN:VCALENDAR
VERSION:2.0
PRODID:-//AusschreibungsRadar//Timeline//DE
CALSCALE:GREGORIAN
METHOD:PUBLISH
X-WR-CALNAME:Projekt Vergabeverf Aufsichts- u Bewachungsdienste Herrenchiemsee de
X-WR-TIMEZONE:Europe/Berlin
BEGIN:VEVENT
UID:9a4f1727b9429b7e@ausschreibungsradar.com
DTSTAMP:20260425T012826Z
DTSTART;VALUE=DATE:20260109
DTEND;VALUE=DATE:20260109
SUMMARY:Angebotsfrist — Vergabeverf Aufsichts- u Bewachungsdienste Herrenchiemsee de
DESCRIPTION:Phase: Ausschreibung | Beschreibung: Angebote werden eingeholt | Link: https://ausschreibungsradar.com/ausschreibung/bc8b324b-4ed4-47ec-b470-38cfb211f4c3/
URL:https://ausschreibungsradar.com/ausschreibung/bc8b324b-4ed4-47ec-b470-38cfb211f4c3/
END:VEVENT
END:VCALENDAR
