BEGIN:VCALENDAR
VERSION:2.0
PRODID:-//AusschreibungsRadar//Timeline//DE
CALSCALE:GREGORIAN
METHOD:PUBLISH
X-WR-CALNAME:Projekt Glasreinigung Campus Hozo
X-WR-TIMEZONE:Europe/Berlin
BEGIN:VEVENT
UID:e8eeb109b9a2b392@ausschreibungsradar.com
DTSTAMP:20260425T130312Z
DTSTART;VALUE=DATE:20250721
DTEND;VALUE=DATE:20250721
SUMMARY:Angebotsfrist — Glasreinigung Campus Hozo
DESCRIPTION:Phase: Ausschreibung | Beschreibung: Angebote werden eingeholt | Link: https://ausschreibungsradar.com/ausschreibung/bca746ba-d5c5-4747-9477-b9f2c793dac5/
URL:https://ausschreibungsradar.com/ausschreibung/bca746ba-d5c5-4747-9477-b9f2c793dac5/
END:VEVENT
BEGIN:VEVENT
UID:11df9ada0e050f2b@ausschreibungsradar.com
DTSTAMP:20260425T130312Z
DTSTART;VALUE=DATE:20250819
DTEND;VALUE=DATE:20250819
SUMMARY:Vergabeergebnis — Glasreinigung Campus Hozo
DESCRIPTION:Phase: Vergabeergebnis | Beschreibung: Auftrag wurde zugeschlagen | Link: https://ausschreibungsradar.com/ausschreibung/e73fc222-a5bf-4003-afdb-b66fb474af22/
URL:https://ausschreibungsradar.com/ausschreibung/e73fc222-a5bf-4003-afdb-b66fb474af22/
END:VEVENT
END:VCALENDAR
