BEGIN:VCALENDAR
VERSION:2.0
PRODID:-//AusschreibungsRadar//Timeline//DE
CALSCALE:GREGORIAN
METHOD:PUBLISH
X-WR-CALNAME:Projekt Bekanntmachung vergebener Auftrag: Gemeinde Strullendorf: Ne
X-WR-TIMEZONE:Europe/Berlin
BEGIN:VEVENT
UID:b1a0b4a9da0ebd1d@ausschreibungsradar.com
DTSTAMP:20260424T190450Z
DTSTART;VALUE=DATE:20251210
DTEND;VALUE=DATE:20251210
SUMMARY:Zuschlag — Bekanntmachung vergebener Auftrag: Gemeinde Strullendorf: Ne
DESCRIPTION:Phase: Zuschlag | Beschreibung: Vergabeergebnis — Auftrag wurde erteilt oder Verfahren beendet. | Link: https://ausschreibungsradar.com/ausschreibung/10360a6b-72e9-4d27-92d7-847b3edc47d3/
URL:https://ausschreibungsradar.com/ausschreibung/10360a6b-72e9-4d27-92d7-847b3edc47d3/
END:VEVENT
BEGIN:VEVENT
UID:f7b03630ae68b9ca@ausschreibungsradar.com
DTSTAMP:20260424T190450Z
DTSTART;VALUE=DATE:20251216
DTEND;VALUE=DATE:20251216
SUMMARY:Zuschlag — Bekanntmachung vergebener Auftrag: Gemeinde Strullendorf: Ne
DESCRIPTION:Phase: Zuschlag | Beschreibung: Vergabeergebnis — Auftrag wurde erteilt oder Verfahren beendet. | Link: https://ausschreibungsradar.com/ausschreibung/bcb8b7d8-dfda-49a8-a543-59e0a5ebe39b/ | Geschätzte
URL:https://ausschreibungsradar.com/ausschreibung/bcb8b7d8-dfda-49a8-a543-59e0a5ebe39b/
END:VEVENT
END:VCALENDAR
