BEGIN:VCALENDAR
VERSION:2.0
PRODID:-//AusschreibungsRadar//Timeline//DE
CALSCALE:GREGORIAN
METHOD:PUBLISH
X-WR-CALNAME:Projekt Umbau Bürogebäude Haus 15 - Planung LPH 5-9 
Anbau Bürogebäu
X-WR-TIMEZONE:Europe/Berlin
BEGIN:VEVENT
UID:2360c380a786b433@ausschreibungsradar.com
DTSTAMP:20260426T004352Z
DTSTART;VALUE=DATE:20240702
DTEND;VALUE=DATE:20240702
SUMMARY:Angebotsfrist — Umbau Bürogebäude Haus 15 - Planung LPH 5-9 \nAnbau Bürogebäu
DESCRIPTION:Phase: Ausschreibung | Beschreibung: Angebote werden eingeholt | Link: https://ausschreibungsradar.com/ausschreibung/6d687de1-8d0b-43b8-8c6e-14f993f3fed0/ | Geschätzter Wert: 274792 €
URL:https://ausschreibungsradar.com/ausschreibung/6d687de1-8d0b-43b8-8c6e-14f993f3fed0/
END:VEVENT
BEGIN:VEVENT
UID:9ef38ca97592fa1c@ausschreibungsradar.com
DTSTAMP:20260426T004352Z
DTSTART;VALUE=DATE:20240906
DTEND;VALUE=DATE:20240906
SUMMARY:Vergabeergebnis — Umbau Bürogebäude Haus 15 - Planung LPH 5-9 \nAnbau Bürogebäu
DESCRIPTION:Phase: Vergabeergebnis | Beschreibung: Auftrag wurde zugeschlagen | Link: https://ausschreibungsradar.com/ausschreibung/bd89db4a-5933-4653-a19f-9fb3cc266e2f/ | Auftragnehmer: Planquadrat Klug Architek
URL:https://ausschreibungsradar.com/ausschreibung/bd89db4a-5933-4653-a19f-9fb3cc266e2f/
END:VEVENT
BEGIN:VEVENT
UID:6fa26d242962d913@ausschreibungsradar.com
DTSTAMP:20260426T004352Z
DTSTART;VALUE=DATE:20240909
DTEND;VALUE=DATE:20240909
SUMMARY:Zuschlag — Umbau Bürogebäude Haus 15 - Planung LPH 5-9 \nAnbau Bürogebäu
DESCRIPTION:Phase: Zuschlag | Beschreibung: Vergabeergebnis — Auftrag wurde erteilt oder Verfahren beendet. | Link: https://ausschreibungsradar.com/ausschreibung/ted-539998-2024/
URL:https://ausschreibungsradar.com/ausschreibung/ted-539998-2024/
END:VEVENT
END:VCALENDAR
