BEGIN:VCALENDAR
VERSION:2.0
PRODID:-//AusschreibungsRadar//Timeline//DE
CALSCALE:GREGORIAN
METHOD:PUBLISH
X-WR-CALNAME:Projekt Realschule Fürstenfeldbruck Erweiterung 
X-WR-TIMEZONE:Europe/Berlin
BEGIN:VEVENT
UID:4743bbbe4dbcec70@ausschreibungsradar.com
DTSTAMP:20260425T144619Z
DTSTART;VALUE=DATE:20250930
DTEND;VALUE=DATE:20250930
SUMMARY:Ausschreibung — Realschule Fürstenfeldbruck Erweiterung 
DESCRIPTION:Phase: Ausschreibung | Beschreibung: Angebote werden eingeholt | Link: https://ausschreibungsradar.com/ausschreibung/bdaa216c-7417-464e-8664-03ba0fa69cb6/
URL:https://ausschreibungsradar.com/ausschreibung/bdaa216c-7417-464e-8664-03ba0fa69cb6/
END:VEVENT
BEGIN:VEVENT
UID:11982c2d3e48a2e9@ausschreibungsradar.com
DTSTAMP:20260425T144619Z
DTSTART;VALUE=DATE:20250930
DTEND;VALUE=DATE:20250930
SUMMARY:Ausschreibung — Realschule Fürstenfeldbruck Erweiterung 
DESCRIPTION:Phase: Ausschreibung | Beschreibung: Offizielle Ausschreibung mit Bieterfrist. | Link: https://ausschreibungsradar.com/ausschreibung/27780d98-785f-4411-9862-eeeee8a8f6fb/
URL:https://ausschreibungsradar.com/ausschreibung/27780d98-785f-4411-9862-eeeee8a8f6fb/
END:VEVENT
BEGIN:VEVENT
UID:1c576c5c534e9815@ausschreibungsradar.com
DTSTAMP:20260425T144619Z
DTSTART;VALUE=DATE:20250930
DTEND;VALUE=DATE:20250930
SUMMARY:Ausschreibung — Realschule Fürstenfeldbruck Erweiterung 
DESCRIPTION:Phase: Ausschreibung | Beschreibung: Offizielle Ausschreibung mit Bieterfrist. | Link: https://ausschreibungsradar.com/ausschreibung/5377f6c6-9d62-4f69-a755-1ba65416e54c/
URL:https://ausschreibungsradar.com/ausschreibung/5377f6c6-9d62-4f69-a755-1ba65416e54c/
END:VEVENT
BEGIN:VEVENT
UID:38e787e0dd343b2f@ausschreibungsradar.com
DTSTAMP:20260425T144619Z
DTSTART;VALUE=DATE:20260417
DTEND;VALUE=DATE:20260417
SUMMARY:Vergabeergebnis — Realschule Fürstenfeldbruck Erweiterung 
DESCRIPTION:Phase: Vergabeergebnis | Beschreibung: Auftrag wurde zugeschlagen | Link: https://ausschreibungsradar.com/ausschreibung/f04f502f-0a36-4980-a820-ce42e347aca9/ | Auftragnehmer: Balda architekten GmbH
URL:https://ausschreibungsradar.com/ausschreibung/f04f502f-0a36-4980-a820-ce42e347aca9/
END:VEVENT
END:VCALENDAR
