BEGIN:VCALENDAR
VERSION:2.0
PRODID:-//AusschreibungsRadar//Timeline//DE
CALSCALE:GREGORIAN
METHOD:PUBLISH
X-WR-CALNAME:Projekt Bodenbelagsarbeiten
X-WR-TIMEZONE:Europe/Berlin
BEGIN:VEVENT
UID:d2cae6f288298829@ausschreibungsradar.com
DTSTAMP:20260426T002758Z
DTSTART;VALUE=DATE:20240618
DTEND;VALUE=DATE:20240618
SUMMARY:Angebotsfrist — Bodenbelagsarbeiten
DESCRIPTION:Phase: Ausschreibung | Beschreibung: Angebote werden eingeholt | Link: https://ausschreibungsradar.com/ausschreibung/8b0b6c91-ac41-486f-9a1e-1d52eb2cb947/
URL:https://ausschreibungsradar.com/ausschreibung/8b0b6c91-ac41-486f-9a1e-1d52eb2cb947/
END:VEVENT
BEGIN:VEVENT
UID:483d04155d3958e7@ausschreibungsradar.com
DTSTAMP:20260426T002758Z
DTSTART;VALUE=DATE:20240725
DTEND;VALUE=DATE:20240725
SUMMARY:Vergabeergebnis — Bodenbelagsarbeiten
DESCRIPTION:Phase: Vergabeergebnis | Beschreibung: Auftrag wurde zugeschlagen | Link: https://ausschreibungsradar.com/ausschreibung/bdc121ec-e333-4392-a44c-c735ec6f0016/ | Auftragnehmer: Daci M Boden GmbH
URL:https://ausschreibungsradar.com/ausschreibung/bdc121ec-e333-4392-a44c-c735ec6f0016/
END:VEVENT
END:VCALENDAR
