BEGIN:VCALENDAR
VERSION:2.0
PRODID:-//AusschreibungsRadar//Timeline//DE
CALSCALE:GREGORIAN
METHOD:PUBLISH
X-WR-CALNAME:Projekt TV-Inspektion und Reinigung von Abwasseranlagen
X-WR-TIMEZONE:Europe/Berlin
BEGIN:VEVENT
UID:73ee1b45e8be05e2@ausschreibungsradar.com
DTSTAMP:20260424T063018Z
DTSTART;VALUE=DATE:20240719
DTEND;VALUE=DATE:20240719
SUMMARY:Angebotsfrist — TV-Inspektion und Reinigung von Abwasseranlagen
DESCRIPTION:Phase: Ausschreibung | Beschreibung: Angebote werden eingeholt | Link: https://ausschreibungsradar.com/ausschreibung/bdced13d-74b9-40d0-b5a7-68a603976f43/
URL:https://ausschreibungsradar.com/ausschreibung/bdced13d-74b9-40d0-b5a7-68a603976f43/
END:VEVENT
END:VCALENDAR
