BEGIN:VCALENDAR
VERSION:2.0
PRODID:-//AusschreibungsRadar//Timeline//DE
CALSCALE:GREGORIAN
METHOD:PUBLISH
X-WR-CALNAME:Projekt Um- und Ausbau Betriebsgelände BGL - Fensterbau- und Raffsto
X-WR-TIMEZONE:Europe/Berlin
BEGIN:VEVENT
UID:45063d5d11096458@ausschreibungsradar.com
DTSTAMP:20260425T113410Z
DTSTART;VALUE=DATE:20240419
DTEND;VALUE=DATE:20240419
SUMMARY:Ausschreibung — Um- und Ausbau Betriebsgelände BGL - Fensterbau- und Raffsto
DESCRIPTION:Phase: Ausschreibung | Beschreibung: Offizielle Ausschreibung mit Bieterfrist. | Link: https://ausschreibungsradar.com/ausschreibung/95558866-6444-40ad-b6d2-a69be6cf5bcc/
URL:https://ausschreibungsradar.com/ausschreibung/95558866-6444-40ad-b6d2-a69be6cf5bcc/
END:VEVENT
BEGIN:VEVENT
UID:c843b52165149619@ausschreibungsradar.com
DTSTAMP:20260425T113410Z
DTSTART;VALUE=DATE:20240422
DTEND;VALUE=DATE:20240422
SUMMARY:Ausschreibung — Um- und Ausbau Betriebsgelände BGL - Fensterbau- und Raffsto
DESCRIPTION:Phase: Ausschreibung | Beschreibung: Angebote werden eingeholt | Link: https://ausschreibungsradar.com/ausschreibung/bea31961-06a9-49de-b0d4-d0a662a5129f/
URL:https://ausschreibungsradar.com/ausschreibung/bea31961-06a9-49de-b0d4-d0a662a5129f/
END:VEVENT
BEGIN:VEVENT
UID:4350562370b654f6@ausschreibungsradar.com
DTSTAMP:20260425T113410Z
DTSTART;VALUE=DATE:20240701
DTEND;VALUE=DATE:20240701
SUMMARY:Vergabeergebnis — Um- und Ausbau Betriebsgelände BGL - Fensterbau- und Raffsto
DESCRIPTION:Phase: Vergabeergebnis | Beschreibung: Auftrag wurde zugeschlagen | Link: https://ausschreibungsradar.com/ausschreibung/7d6d19a9-c1c9-4e1d-8862-322a5cb18eeb/
URL:https://ausschreibungsradar.com/ausschreibung/7d6d19a9-c1c9-4e1d-8862-322a5cb18eeb/
END:VEVENT
END:VCALENDAR
