BEGIN:VCALENDAR
VERSION:2.0
PRODID:-//AusschreibungsRadar//Timeline//DE
CALSCALE:GREGORIAN
METHOD:PUBLISH
X-WR-CALNAME:Projekt Bereitstellung einer cloudbasierten Phishing-Simulation
X-WR-TIMEZONE:Europe/Berlin
BEGIN:VEVENT
UID:ae9d53ed4ff4366b@ausschreibungsradar.com
DTSTAMP:20260424T105603Z
DTSTART;VALUE=DATE:20240823
DTEND;VALUE=DATE:20240823
SUMMARY:Ausschreibung — Bereitstellung einer cloudbasierten Phishing-Simulation
DESCRIPTION:Phase: Ausschreibung | Beschreibung: Angebote werden eingeholt | Link: https://ausschreibungsradar.com/ausschreibung/c8c32c8f-3d7c-4222-8a56-009fc80a9369/
URL:https://ausschreibungsradar.com/ausschreibung/c8c32c8f-3d7c-4222-8a56-009fc80a9369/
END:VEVENT
BEGIN:VEVENT
UID:7c357a0b7b695ce8@ausschreibungsradar.com
DTSTAMP:20260424T105603Z
DTSTART;VALUE=DATE:20250702
DTEND;VALUE=DATE:20250702
SUMMARY:Vergabeergebnis — Bereitstellung einer cloudbasierten Phishing-Simulation
DESCRIPTION:Phase: Vergabeergebnis | Beschreibung: Auftrag wurde zugeschlagen | Link: https://ausschreibungsradar.com/ausschreibung/bea4262f-2dbc-4891-90f1-cc6120bba98f/
URL:https://ausschreibungsradar.com/ausschreibung/bea4262f-2dbc-4891-90f1-cc6120bba98f/
END:VEVENT
END:VCALENDAR
