BEGIN:VCALENDAR
VERSION:2.0
PRODID:-//AusschreibungsRadar//Timeline//DE
CALSCALE:GREGORIAN
METHOD:PUBLISH
X-WR-CALNAME:Projekt Neubau Martin-Niemöller-Gesamtschule-Bauheizung Nord
X-WR-TIMEZONE:Europe/Berlin
BEGIN:VEVENT
UID:6bbbfcbb2e88f047@ausschreibungsradar.com
DTSTAMP:20260424T204443Z
DTSTART;VALUE=DATE:20260105
DTEND;VALUE=DATE:20260105
SUMMARY:Zuschlag — Neubau Martin-Niemöller-Gesamtschule-Bauheizung Nord
DESCRIPTION:Phase: Zuschlag | Beschreibung: Vergabeergebnis — Auftrag wurde erteilt oder Verfahren beendet. | Link: https://ausschreibungsradar.com/ausschreibung/05a6264d-9173-4eaf-88bb-f87d92ca4b0c/
URL:https://ausschreibungsradar.com/ausschreibung/05a6264d-9173-4eaf-88bb-f87d92ca4b0c/
END:VEVENT
BEGIN:VEVENT
UID:aa640f920aefdba6@ausschreibungsradar.com
DTSTAMP:20260424T204443Z
DTSTART;VALUE=DATE:20260305
DTEND;VALUE=DATE:20260305
SUMMARY:Angebotsfrist — Neubau Martin-Niemöller-Gesamtschule-Bauheizung Nord
DESCRIPTION:Phase: Ausschreibung | Beschreibung: Angebote werden eingeholt | Link: https://ausschreibungsradar.com/ausschreibung/bf06299c-d1a0-428c-b2c2-74ce18e30e8a/
URL:https://ausschreibungsradar.com/ausschreibung/bf06299c-d1a0-428c-b2c2-74ce18e30e8a/
END:VEVENT
BEGIN:VEVENT
UID:e4e3ac643cd76eae@ausschreibungsradar.com
DTSTAMP:20260424T204443Z
DTSTART;VALUE=DATE:20260119
DTEND;VALUE=DATE:20260119
SUMMARY:Ausschreibung — Neubau Martin-Niemöller-Gesamtschule-Bauheizung Nord
DESCRIPTION:Phase: Ausschreibung | Beschreibung: Offizielle Ausschreibung mit Bieterfrist. | Link: https://ausschreibungsradar.com/ausschreibung/d32ea04f-168f-4f06-9d12-9b9bd308f2e5/
URL:https://ausschreibungsradar.com/ausschreibung/d32ea04f-168f-4f06-9d12-9b9bd308f2e5/
END:VEVENT
END:VCALENDAR
