BEGIN:VCALENDAR
VERSION:2.0
PRODID:-//AusschreibungsRadar//Timeline//DE
CALSCALE:GREGORIAN
METHOD:PUBLISH
X-WR-CALNAME:Projekt Ersatzbeschaffung von Netzwerkkomponenten für das LAN und WL
X-WR-TIMEZONE:Europe/Berlin
BEGIN:VEVENT
UID:592d29148d06ef8c@ausschreibungsradar.com
DTSTAMP:20260425T112918Z
DTSTART;VALUE=DATE:20231023
DTEND;VALUE=DATE:20231023
SUMMARY:Angebotsfrist — Ersatzbeschaffung von Netzwerkkomponenten für das LAN und WL
DESCRIPTION:Phase: Ausschreibung | Beschreibung: Angebote werden eingeholt | Link: https://ausschreibungsradar.com/ausschreibung/7ba87dfc-c31b-4ffd-84c8-e93f0b1299c3/
URL:https://ausschreibungsradar.com/ausschreibung/7ba87dfc-c31b-4ffd-84c8-e93f0b1299c3/
END:VEVENT
BEGIN:VEVENT
UID:776de20c1989cda8@ausschreibungsradar.com
DTSTAMP:20260425T112918Z
DTSTART;VALUE=DATE:20231128
DTEND;VALUE=DATE:20231128
SUMMARY:Vergabeergebnis — Ersatzbeschaffung von Netzwerkkomponenten für das LAN und WL
DESCRIPTION:Phase: Vergabeergebnis | Beschreibung: Auftrag wurde zugeschlagen | Link: https://ausschreibungsradar.com/ausschreibung/bf0971e2-611d-4662-8b39-2e4705c80a22/
URL:https://ausschreibungsradar.com/ausschreibung/bf0971e2-611d-4662-8b39-2e4705c80a22/
END:VEVENT
END:VCALENDAR
