BEGIN:VCALENDAR
VERSION:2.0
PRODID:-//AusschreibungsRadar//Timeline//DE
CALSCALE:GREGORIAN
METHOD:PUBLISH
X-WR-CALNAME:Projekt Lieferung eines Hilfeleistungslöschfahrzeug HLF20 in Anlehnu
X-WR-TIMEZONE:Europe/Berlin
BEGIN:VEVENT
UID:9c6f9dd8a8ab095b@ausschreibungsradar.com
DTSTAMP:20260426T002400Z
DTSTART;VALUE=DATE:20250509
DTEND;VALUE=DATE:20250509
SUMMARY:Angebotsfrist — Lieferung eines Hilfeleistungslöschfahrzeug HLF20 in Anlehnu
DESCRIPTION:Phase: Ausschreibung | Beschreibung: Angebote werden eingeholt | Link: https://ausschreibungsradar.com/ausschreibung/bf1fa2a0-da27-4e38-8bd8-0437ae8665cb/
URL:https://ausschreibungsradar.com/ausschreibung/bf1fa2a0-da27-4e38-8bd8-0437ae8665cb/
END:VEVENT
END:VCALENDAR
