BEGIN:VCALENDAR
VERSION:2.0
PRODID:-//AusschreibungsRadar//Timeline//DE
CALSCALE:GREGORIAN
METHOD:PUBLISH
X-WR-CALNAME:Projekt Umbau, Sanierung und Erweiterung der Regionalen Schule mit G
X-WR-TIMEZONE:Europe/Berlin
BEGIN:VEVENT
UID:d5812d8ff5118858@ausschreibungsradar.com
DTSTAMP:20260425T031119Z
DTSTART;VALUE=DATE:20240314
DTEND;VALUE=DATE:20240314
SUMMARY:Angebotsfrist — Umbau\, Sanierung und Erweiterung der Regionalen Schule mit G
DESCRIPTION:Phase: Ausschreibung | Beschreibung: Angebote werden eingeholt | Link: https://ausschreibungsradar.com/ausschreibung/bfb7f225-b363-4c34-af83-5052d40cdbfc/
URL:https://ausschreibungsradar.com/ausschreibung/bfb7f225-b363-4c34-af83-5052d40cdbfc/
END:VEVENT
BEGIN:VEVENT
UID:8a6d90b15c226237@ausschreibungsradar.com
DTSTAMP:20260425T031119Z
DTSTART;VALUE=DATE:20240305
DTEND;VALUE=DATE:20240305
SUMMARY:Ausschreibung — Umbau\, Sanierung und Erweiterung der Regionalen Schule mit G
DESCRIPTION:Phase: Ausschreibung | Beschreibung: Offizielle Ausschreibung mit Bieterfrist. | Link: https://ausschreibungsradar.com/ausschreibung/c4ed1527-c6e1-4faa-8a01-2e070e7f4b2a/
URL:https://ausschreibungsradar.com/ausschreibung/c4ed1527-c6e1-4faa-8a01-2e070e7f4b2a/
END:VEVENT
END:VCALENDAR
