BEGIN:VCALENDAR
VERSION:2.0
PRODID:-//AusschreibungsRadar//Timeline//DE
CALSCALE:GREGORIAN
METHOD:PUBLISH
X-WR-CALNAME:Projekt Schadstoffsanierung, Abbruch und Entkernung
X-WR-TIMEZONE:Europe/Berlin
BEGIN:VEVENT
UID:4bf2fe229f8528e7@ausschreibungsradar.com
DTSTAMP:20260425T151603Z
DTSTART;VALUE=DATE:20250703
DTEND;VALUE=DATE:20250703
SUMMARY:Angebotsfrist — Schadstoffsanierung\, Abbruch und Entkernung
DESCRIPTION:Phase: Ausschreibung | Beschreibung: Angebote werden eingeholt | Link: https://ausschreibungsradar.com/ausschreibung/bfe2711f-a72a-4aad-af43-d39c899ba1f4/
URL:https://ausschreibungsradar.com/ausschreibung/bfe2711f-a72a-4aad-af43-d39c899ba1f4/
END:VEVENT
BEGIN:VEVENT
UID:a01bc7a3154a9237@ausschreibungsradar.com
DTSTAMP:20260425T151603Z
DTSTART;VALUE=DATE:20250908
DTEND;VALUE=DATE:20250908
SUMMARY:Vergabeergebnis — Schadstoffsanierung\, Abbruch und Entkernung
DESCRIPTION:Phase: Vergabeergebnis | Beschreibung: Auftrag wurde zugeschlagen | Link: https://ausschreibungsradar.com/ausschreibung/bb832dd5-793d-4b0a-b62c-9142234aa03e/
URL:https://ausschreibungsradar.com/ausschreibung/bb832dd5-793d-4b0a-b62c-9142234aa03e/
END:VEVENT
END:VCALENDAR
