BEGIN:VCALENDAR
VERSION:2.0
PRODID:-//AusschreibungsRadar//Timeline//DE
CALSCALE:GREGORIAN
METHOD:PUBLISH
X-WR-CALNAME:Projekt Planungsleistungen, Erneuerung und Erweiterung der Sicherhei
X-WR-TIMEZONE:Europe/Berlin
BEGIN:VEVENT
UID:94dbad0c3a07c966@ausschreibungsradar.com
DTSTAMP:20260425T160215Z
DTSTART;VALUE=DATE:20260423
DTEND;VALUE=DATE:20260423
SUMMARY:Ausschreibung — Planungsleistungen\, Erneuerung und Erweiterung der Sicherhei
DESCRIPTION:Phase: Ausschreibung | Beschreibung: Offizielle Ausschreibung mit Bieterfrist. | Link: https://ausschreibungsradar.com/ausschreibung/bund-89a92471d1a8714b/
URL:https://ausschreibungsradar.com/ausschreibung/bund-89a92471d1a8714b/
END:VEVENT
BEGIN:VEVENT
UID:aa2f52964223204d@ausschreibungsradar.com
DTSTAMP:20260425T160215Z
DTSTART;VALUE=DATE:20260423
DTEND;VALUE=DATE:20260423
SUMMARY:Ausschreibung — Planungsleistungen\, Erneuerung und Erweiterung der Sicherhei
DESCRIPTION:Phase: Ausschreibung | Beschreibung: Offizielle Ausschreibung mit Bieterfrist. | Link: https://ausschreibungsradar.com/ausschreibung/bund-5dbc788b97172d68/
URL:https://ausschreibungsradar.com/ausschreibung/bund-5dbc788b97172d68/
END:VEVENT
END:VCALENDAR
