BEGIN:VCALENDAR
VERSION:2.0
PRODID:-//AusschreibungsRadar//Timeline//DE
CALSCALE:GREGORIAN
METHOD:PUBLISH
X-WR-CALNAME:Projekt REZ Bayern_45BM_AA Bamberg-Coburg
X-WR-TIMEZONE:Europe/Berlin
BEGIN:VEVENT
UID:285275b723b1b2af@ausschreibungsradar.com
DTSTAMP:20260424T133234Z
DTSTART;VALUE=DATE:20260421
DTEND;VALUE=DATE:20260421
SUMMARY:Ausschreibung — REZ Bayern_45BM_AA Bamberg-Coburg
DESCRIPTION:Phase: Ausschreibung | Beschreibung: Offizielle Ausschreibung mit Bieterfrist. | Link: https://ausschreibungsradar.com/ausschreibung/1e19a77c-8af5-480a-8ca8-920902caa1a5/
URL:https://ausschreibungsradar.com/ausschreibung/1e19a77c-8af5-480a-8ca8-920902caa1a5/
END:VEVENT
BEGIN:VEVENT
UID:89b29a28b35d6c89@ausschreibungsradar.com
DTSTAMP:20260424T133234Z
DTSTART;VALUE=DATE:20260421
DTEND;VALUE=DATE:20260421
SUMMARY:Ausschreibung — REZ Bayern_45BM_AA Bamberg-Coburg
DESCRIPTION:Phase: Ausschreibung | Beschreibung: Offizielle Ausschreibung mit Bieterfrist. | Link: https://ausschreibungsradar.com/ausschreibung/bund-b6fdd0d81f58ca5c/
URL:https://ausschreibungsradar.com/ausschreibung/bund-b6fdd0d81f58ca5c/
END:VEVENT
BEGIN:VEVENT
UID:21677479257f2d61@ausschreibungsradar.com
DTSTAMP:20260424T133234Z
DTSTART;VALUE=DATE:20260422
DTEND;VALUE=DATE:20260422
SUMMARY:Ausschreibung — REZ Bayern_45BM_AA Bamberg-Coburg
DESCRIPTION:Phase: Ausschreibung | Beschreibung: Offizielle Ausschreibung mit Bieterfrist. | Link: https://ausschreibungsradar.com/ausschreibung/bund-b194123d820cdb6b/
URL:https://ausschreibungsradar.com/ausschreibung/bund-b194123d820cdb6b/
END:VEVENT
BEGIN:VEVENT
UID:0e63c99ed387eb61@ausschreibungsradar.com
DTSTAMP:20260424T133234Z
DTSTART;VALUE=DATE:20260422
DTEND;VALUE=DATE:20260422
SUMMARY:Ausschreibung — REZ Bayern_45BM_AA Bamberg-Coburg
DESCRIPTION:Phase: Ausschreibung | Beschreibung: Offizielle Ausschreibung mit Bieterfrist. | Link: https://ausschreibungsradar.com/ausschreibung/f083081c-0d54-4107-b2f7-c0453eca3ac1/
URL:https://ausschreibungsradar.com/ausschreibung/f083081c-0d54-4107-b2f7-c0453eca3ac1/
END:VEVENT
END:VCALENDAR
