BEGIN:VCALENDAR
VERSION:2.0
PRODID:-//AusschreibungsRadar//Timeline//DE
CALSCALE:GREGORIAN
METHOD:PUBLISH
X-WR-CALNAME:Projekt 38-2026-40 - Transparenzbekanntmachung - Zwota in Ortslage Z
X-WR-TIMEZONE:Europe/Berlin
BEGIN:VEVENT
UID:021c90232338a82b@ausschreibungsradar.com
DTSTAMP:20260424T090957Z
DTSTART;VALUE=DATE:20260324
DTEND;VALUE=DATE:20260324
SUMMARY:Ausschreibung — 38-2026-40 - Transparenzbekanntmachung - Zwota in Ortslage Z
DESCRIPTION:Phase: Ausschreibung | Beschreibung: Offizielle Ausschreibung mit Bieterfrist. | Link: https://ausschreibungsradar.com/ausschreibung/25148792/
URL:https://ausschreibungsradar.com/ausschreibung/25148792/
END:VEVENT
BEGIN:VEVENT
UID:bcfc771f1abb784c@ausschreibungsradar.com
DTSTAMP:20260424T090957Z
DTSTART;VALUE=DATE:20260422
DTEND;VALUE=DATE:20260422
SUMMARY:Ausschreibung — 38-2026-40 - Transparenzbekanntmachung - Zwota in Ortslage Z
DESCRIPTION:Phase: Ausschreibung | Beschreibung: Offizielle Ausschreibung mit Bieterfrist. | Link: https://ausschreibungsradar.com/ausschreibung/bund-evergabede-6910059/
URL:https://ausschreibungsradar.com/ausschreibung/bund-evergabede-6910059/
END:VEVENT
END:VCALENDAR
