BEGIN:VCALENDAR
VERSION:2.0
PRODID:-//AusschreibungsRadar//Timeline//DE
CALSCALE:GREGORIAN
METHOD:PUBLISH
X-WR-CALNAME:Projekt Serverinfrastruktur in der Kreisverwaltung Bad Kreuznach
X-WR-TIMEZONE:Europe/Berlin
BEGIN:VEVENT
UID:6395cb5580061199@ausschreibungsradar.com
DTSTAMP:20260425T233922Z
DTSTART;VALUE=DATE:20260416
DTEND;VALUE=DATE:20260416
SUMMARY:Ausschreibung — Serverinfrastruktur in der Kreisverwaltung Bad Kreuznach
DESCRIPTION:Phase: Ausschreibung | Beschreibung: Offizielle Ausschreibung mit Bieterfrist. | Link: https://ausschreibungsradar.com/ausschreibung/25236332/
URL:https://ausschreibungsradar.com/ausschreibung/25236332/
END:VEVENT
BEGIN:VEVENT
UID:a8aecf42d68d2baa@ausschreibungsradar.com
DTSTAMP:20260425T233922Z
DTSTART;VALUE=DATE:20260423
DTEND;VALUE=DATE:20260423
SUMMARY:Ausschreibung — Serverinfrastruktur in der Kreisverwaltung Bad Kreuznach
DESCRIPTION:Phase: Ausschreibung | Beschreibung: Offizielle Ausschreibung mit Bieterfrist. | Link: https://ausschreibungsradar.com/ausschreibung/bund-subreport-E25762936/
URL:https://ausschreibungsradar.com/ausschreibung/bund-subreport-E25762936/
END:VEVENT
END:VCALENDAR
