BEGIN:VCALENDAR
VERSION:2.0
PRODID:-//AusschreibungsRadar//Timeline//DE
CALSCALE:GREGORIAN
METHOD:PUBLISH
X-WR-CALNAME:Projekt Kläranlage Ingelheim, Neubau Werkstatt- und Sozialgebäude, T
X-WR-TIMEZONE:Europe/Berlin
BEGIN:VEVENT
UID:113f61a702e2c38b@ausschreibungsradar.com
DTSTAMP:20260425T115243Z
DTSTART;VALUE=DATE:20260310
DTEND;VALUE=DATE:20260310
SUMMARY:Angebotsfrist — Kläranlage Ingelheim\, Neubau Werkstatt- und Sozialgebäude\, T
DESCRIPTION:Phase: Ausschreibung | Beschreibung: Angebote werden eingeholt | Link: https://ausschreibungsradar.com/ausschreibung/c01b5dad-82ec-4f17-8708-33940b25d2cb/ | Geschätzter Wert: 1458995 €
URL:https://ausschreibungsradar.com/ausschreibung/c01b5dad-82ec-4f17-8708-33940b25d2cb/
END:VEVENT
BEGIN:VEVENT
UID:436abcaf1d31c5da@ausschreibungsradar.com
DTSTAMP:20260425T115243Z
DTSTART;VALUE=DATE:20260130
DTEND;VALUE=DATE:20260130
SUMMARY:Ausschreibung — Kläranlage Ingelheim\, Neubau Werkstatt- und Sozialgebäude\, T
DESCRIPTION:Phase: Ausschreibung | Beschreibung: Offizielle Ausschreibung mit Bieterfrist. | Link: https://ausschreibungsradar.com/ausschreibung/ece72696-ddd7-4347-9805-b6ecb2531154/
URL:https://ausschreibungsradar.com/ausschreibung/ece72696-ddd7-4347-9805-b6ecb2531154/
END:VEVENT
END:VCALENDAR
