BEGIN:VCALENDAR
VERSION:2.0
PRODID:-//AusschreibungsRadar//Timeline//DE
CALSCALE:GREGORIAN
METHOD:PUBLISH
X-WR-CALNAME:Projekt Sanierung und Erweiterung der Grundschule Röthlein - Bodenbe
X-WR-TIMEZONE:Europe/Berlin
BEGIN:VEVENT
UID:d7ecd8d25c9df047@ausschreibungsradar.com
DTSTAMP:20260425T002710Z
DTSTART;VALUE=DATE:20260127
DTEND;VALUE=DATE:20260127
SUMMARY:Angebotsfrist — Sanierung und Erweiterung der Grundschule Röthlein - Bodenbe
DESCRIPTION:Phase: Ausschreibung | Beschreibung: Angebote werden eingeholt | Link: https://ausschreibungsradar.com/ausschreibung/c0753206-8e4a-4af4-a9d2-44aab989ad6e/
URL:https://ausschreibungsradar.com/ausschreibung/c0753206-8e4a-4af4-a9d2-44aab989ad6e/
END:VEVENT
BEGIN:VEVENT
UID:a644d1dcf0bfc37e@ausschreibungsradar.com
DTSTAMP:20260425T002710Z
DTSTART;VALUE=DATE:20251215
DTEND;VALUE=DATE:20251215
SUMMARY:Ausschreibung — Sanierung und Erweiterung der Grundschule Röthlein - Bodenbe
DESCRIPTION:Phase: Ausschreibung | Beschreibung: Offizielle Ausschreibung mit Bieterfrist. | Link: https://ausschreibungsradar.com/ausschreibung/eeed2312-f14d-4890-a0b4-c6aacda847f4/
URL:https://ausschreibungsradar.com/ausschreibung/eeed2312-f14d-4890-a0b4-c6aacda847f4/
END:VEVENT
BEGIN:VEVENT
UID:0e980cf9a8b077d3@ausschreibungsradar.com
DTSTAMP:20260425T002710Z
DTSTART;VALUE=DATE:20260309
DTEND;VALUE=DATE:20260309
SUMMARY:Vergabeergebnis — Sanierung und Erweiterung der Grundschule Röthlein - Bodenbe
DESCRIPTION:Phase: Vergabeergebnis | Beschreibung: Auftrag wurde zugeschlagen | Link: https://ausschreibungsradar.com/ausschreibung/5c9f0450-87ad-42ba-a327-cc699360b036/ | Auftragnehmer: Fußböden Fleischmann GmbH
URL:https://ausschreibungsradar.com/ausschreibung/5c9f0450-87ad-42ba-a327-cc699360b036/
END:VEVENT
END:VCALENDAR
