BEGIN:VCALENDAR
VERSION:2.0
PRODID:-//AusschreibungsRadar//Timeline//DE
CALSCALE:GREGORIAN
METHOD:PUBLISH
X-WR-CALNAME:Projekt Tafelwasseranlagen
X-WR-TIMEZONE:Europe/Berlin
BEGIN:VEVENT
UID:7b44b9be8599def9@ausschreibungsradar.com
DTSTAMP:20260424T210238Z
DTSTART;VALUE=DATE:20251111
DTEND;VALUE=DATE:20251111
SUMMARY:Angebotsfrist — Tafelwasseranlagen
DESCRIPTION:Phase: Ausschreibung | Beschreibung: Angebote werden eingeholt | Link: https://ausschreibungsradar.com/ausschreibung/c0b4a3d0-d008-49da-8ce6-e7a777d1af69/
URL:https://ausschreibungsradar.com/ausschreibung/c0b4a3d0-d008-49da-8ce6-e7a777d1af69/
END:VEVENT
BEGIN:VEVENT
UID:33432e887ed33458@ausschreibungsradar.com
DTSTAMP:20260424T210238Z
DTSTART;VALUE=DATE:20251006
DTEND;VALUE=DATE:20251006
SUMMARY:Ausschreibung — Tafelwasseranlagen
DESCRIPTION:Phase: Ausschreibung | Beschreibung: Offizielle Ausschreibung mit Bieterfrist. | Link: https://ausschreibungsradar.com/ausschreibung/5e29baeb-2804-4d4f-8ebf-706504c59d60/
URL:https://ausschreibungsradar.com/ausschreibung/5e29baeb-2804-4d4f-8ebf-706504c59d60/
END:VEVENT
BEGIN:VEVENT
UID:84f167bca57dd7fa@ausschreibungsradar.com
DTSTAMP:20260424T210238Z
DTSTART;VALUE=DATE:20260206
DTEND;VALUE=DATE:20260206
SUMMARY:Vergabeergebnis — Tafelwasseranlagen
DESCRIPTION:Phase: Vergabeergebnis | Beschreibung: Auftrag wurde zugeschlagen | Link: https://ausschreibungsradar.com/ausschreibung/f6c8a70e-ee92-4161-9bb4-899ca0cd1e62/
URL:https://ausschreibungsradar.com/ausschreibung/f6c8a70e-ee92-4161-9bb4-899ca0cd1e62/
END:VEVENT
END:VCALENDAR
