BEGIN:VCALENDAR
VERSION:2.0
PRODID:-//AusschreibungsRadar//Timeline//DE
CALSCALE:GREGORIAN
METHOD:PUBLISH
X-WR-CALNAME:Projekt Erweiterung der Gemeinschaftsschule Kappeln, Holzbauarbeiten
X-WR-TIMEZONE:Europe/Berlin
BEGIN:VEVENT
UID:46b556eb2af97cb0@ausschreibungsradar.com
DTSTAMP:20260425T221234Z
DTSTART;VALUE=DATE:20240326
DTEND;VALUE=DATE:20240326
SUMMARY:Angebotsfrist — Erweiterung der Gemeinschaftsschule Kappeln\, Holzbauarbeiten
DESCRIPTION:Phase: Ausschreibung | Beschreibung: Angebote werden eingeholt | Link: https://ausschreibungsradar.com/ausschreibung/c0bd6bcd-66e4-4192-88b6-28ee1068da50/
URL:https://ausschreibungsradar.com/ausschreibung/c0bd6bcd-66e4-4192-88b6-28ee1068da50/
END:VEVENT
BEGIN:VEVENT
UID:8d866803ed0814f9@ausschreibungsradar.com
DTSTAMP:20260425T221234Z
DTSTART;VALUE=DATE:20240222
DTEND;VALUE=DATE:20240222
SUMMARY:Zuschlag — Erweiterung der Gemeinschaftsschule Kappeln\, Holzbauarbeiten
DESCRIPTION:Phase: Zuschlag | Beschreibung: Vergabeergebnis — Auftrag wurde erteilt oder Verfahren beendet. | Link: https://ausschreibungsradar.com/ausschreibung/69bc20fd-513d-4740-96a6-99eabfb877e3/
URL:https://ausschreibungsradar.com/ausschreibung/69bc20fd-513d-4740-96a6-99eabfb877e3/
END:VEVENT
BEGIN:VEVENT
UID:e157f2a351bfd188@ausschreibungsradar.com
DTSTAMP:20260425T221234Z
DTSTART;VALUE=DATE:20240319
DTEND;VALUE=DATE:20240319
SUMMARY:Ausschreibung — Erweiterung der Gemeinschaftsschule Kappeln\, Holzbauarbeiten
DESCRIPTION:Phase: Ausschreibung | Beschreibung: Offizielle Ausschreibung mit Bieterfrist. | Link: https://ausschreibungsradar.com/ausschreibung/58181344-2127-4aa6-a2d3-9f41c259ddd2/
URL:https://ausschreibungsradar.com/ausschreibung/58181344-2127-4aa6-a2d3-9f41c259ddd2/
END:VEVENT
BEGIN:VEVENT
UID:279dd77d942e3ffc@ausschreibungsradar.com
DTSTAMP:20260425T221234Z
DTSTART;VALUE=DATE:20240514
DTEND;VALUE=DATE:20240514
SUMMARY:Vergabeergebnis — Erweiterung der Gemeinschaftsschule Kappeln\, Holzbauarbeiten
DESCRIPTION:Phase: Vergabeergebnis | Beschreibung: Auftrag wurde zugeschlagen | Link: https://ausschreibungsradar.com/ausschreibung/440879c9-0855-4e94-ba6e-de0a24c60783/
URL:https://ausschreibungsradar.com/ausschreibung/440879c9-0855-4e94-ba6e-de0a24c60783/
END:VEVENT
END:VCALENDAR
